BEGIN:VCALENDAR
VERSION:2.0
PRODID:-//Théâtre de l’Arlequin - ECPv5.6.0//NONSGML v1.0//EN
CALSCALE:GREGORIAN
METHOD:PUBLISH
X-WR-CALNAME:Théâtre de l’Arlequin
X-ORIGINAL-URL:https://theatrearlequin.morsang.net
X-WR-CALDESC:évènements pour Théâtre de l’Arlequin
BEGIN:VTIMEZONE
TZID:Europe/Paris
BEGIN:DAYLIGHT
TZOFFSETFROM:+0100
TZOFFSETTO:+0200
TZNAME:CEST
DTSTART:20210328T010000
END:DAYLIGHT
BEGIN:STANDARD
TZOFFSETFROM:+0200
TZOFFSETTO:+0100
TZNAME:CET
DTSTART:20211031T010000
END:STANDARD
END:VTIMEZONE
BEGIN:VEVENT
DTSTART;TZID=Europe/Paris:20210701T200000
DTEND;TZID=Europe/Paris:20210701T200000
DTSTAMP:20260426T005733
CREATED:20210621T190442Z
LAST-MODIFIED:20210621T190644Z
UID:19635-1625169600-1625169600@theatrearlequin.morsang.net
SUMMARY:Avignon fait son festival (Made in Coeur d'Essonne)
DESCRIPTION:Festival de pratiques amateur – Made in Coeur d’Essonne\nJeudi 1er juillet à 20h \nAtelier de l’association l’Epi d’Orge \nAvignon fait son Festival\nAdaptation et mise en scène : Brice Astier-Billy \nAvec : Christine Bosselut\, Solina Gallo-Bona\, Carole Geindreau\, Annie Giaubert\, Lindsay Jerico\, Frédéric Lamouret\, Pascale Plumot\, Agnès Simonneau et Brigitte Yvernes. \nUne journée à Avignon\, en juillet\, pendant le Festival de théâtre\, se croisent les touristes\, les comédiens\, les clochards ; des femmes\, des hommes\, toute une humanité grouillante et vivante. Tous rêvent\, rient et pleurent au cœur de ce manège qui chaque jour fait tourner une ronde joyeuse. \n 
URL:https://theatrearlequin.morsang.net/event/19635/
CATEGORIES:Made in Cœur d’Essonne,pratiques amateurs,septembre – décembre,Théâtre
ATTACH;FMTTYPE=image/png:https://theatrearlequin.morsang.net/wp-content/uploads/2021/06/Affiche.png
END:VEVENT
END:VCALENDAR