BEGIN:VCALENDAR
VERSION:2.0
PRODID:-//Théâtre de l’Arlequin - ECPv5.6.0//NONSGML v1.0//EN
CALSCALE:GREGORIAN
METHOD:PUBLISH
X-WR-CALNAME:Théâtre de l’Arlequin
X-ORIGINAL-URL:https://theatrearlequin.morsang.net
X-WR-CALDESC:évènements pour Théâtre de l’Arlequin
BEGIN:VTIMEZONE
TZID:Europe/Paris
BEGIN:DAYLIGHT
TZOFFSETFROM:+0100
TZOFFSETTO:+0200
TZNAME:CEST
DTSTART:20220327T010000
END:DAYLIGHT
BEGIN:STANDARD
TZOFFSETFROM:+0200
TZOFFSETTO:+0100
TZNAME:CET
DTSTART:20221030T010000
END:STANDARD
END:VTIMEZONE
BEGIN:VEVENT
DTSTART;TZID=Europe/Paris:20220612T160000
DTEND;TZID=Europe/Paris:20220612T170000
DTSTAMP:20260424T063258
CREATED:20220518T155450Z
LAST-MODIFIED:20220518T160438Z
UID:21279-1655049600-1655053200@theatrearlequin.morsang.net
SUMMARY:DIALOGUE D'UN CHIEN AVEC SON MAÎTRE (théâtre)
DESCRIPTION:Dimanche 12 juin à 16h\nAssociation La Troupe du CAB \n\nDIALOGUE D’UN CHIEN AVEC SON MAÎTRE sur la nécessité de mordre ses amis de Jean-Marie Piemme\nDans une caravane loin de tout\, un portier d’hôtel de luxe et son chien fanfaron qui adore provoquer des carambolages\, se livrent à un concours d’éloquence et de joutes verbales sur le sens de la vie. \n \n  \nMise en scène : Gaël Le Meur \nAvec : Didier Legrand et Nelly Ruamps \nTout public à partir de 11 ans\, durée 1h20 \n  \nDans le cadre des rencontres Made in Coeur d’Essonne\nCe festival dédié aux aux groupes et compagnies amateur qui depuis longtemps nous font l’amitié de s’associer\, au fil des saisons\, à la vie du théâtre de l’Arlequin\n\nDes compagnies de toute l’agglomération du Cœur d’Essonne. Du théâtre\, de la musique. De la passion et de l’audace.\nMade in Coeur d’Essonne vous présente 15 spectacles en 4 semaines.\nAu théâtre de l’Arlequin\, 35 rue Jean Raynal\, 91390 Morsang sur Orge\nRéservation 01.69.25.49.15 ou sur le site https://theatrearlequin.morsang.net\nEt toujours les tarifs habituels de 2€\, 5€\, 10€ au choix\, 1€ enfants de moins de 12 ans\, mais cette fois\, la recette va intégralement à la compagnie qui joue. \nTOUT LE PROGRAMME DU FESTIVAL SOUS CE LIEN\n  \n 
URL:https://theatrearlequin.morsang.net/event/21279/
CATEGORIES:Juin - Août,Made in Cœur d’Essonne,pratiques amateurs,Théâtre
ATTACH;FMTTYPE=image/jpeg:https://theatrearlequin.morsang.net/wp-content/uploads/2022/05/PHOTO-2.jpg
END:VEVENT
END:VCALENDAR