BEGIN:VCALENDAR
VERSION:2.0
PRODID:-//Théâtre de l’Arlequin - ECPv5.6.0//NONSGML v1.0//EN
CALSCALE:GREGORIAN
METHOD:PUBLISH
X-WR-CALNAME:Théâtre de l’Arlequin
X-ORIGINAL-URL:https://theatrearlequin.morsang.net
X-WR-CALDESC:évènements pour Théâtre de l’Arlequin
BEGIN:VTIMEZONE
TZID:Europe/Paris
BEGIN:DAYLIGHT
TZOFFSETFROM:+0100
TZOFFSETTO:+0200
TZNAME:CEST
DTSTART:20230326T010000
END:DAYLIGHT
BEGIN:STANDARD
TZOFFSETFROM:+0200
TZOFFSETTO:+0100
TZNAME:CET
DTSTART:20231029T010000
END:STANDARD
END:VTIMEZONE
BEGIN:VEVENT
DTSTART;TZID=Europe/Paris:20230613T143000
DTEND;TZID=Europe/Paris:20230613T173000
DTSTAMP:20260423T170142
CREATED:20230531T075835Z
LAST-MODIFIED:20230531T125946Z
UID:23717-1686666600-1686677400@theatrearlequin.morsang.net
SUMMARY:Un bel anniversaire
DESCRIPTION:Mardi 13 juin à 14h30\nAssociation ALTERITE / ESAT « Les ateliers Morsaintois »\nUN BEL ANNIVERSAIRE\nAuteur : Mariane ZAHAR \nAvec : Jessica PEGORARO\, Eric JEGOU\, Ahamada RAFFION\, Lauriane COULON\, David GUERRINHA\, Badr HAMMOUDI\, Jérôme TAGOT \nDescriptif : la vie est décidément pleine de surprises et une promenade dans la nature bigrement régénérante. Mais qui pouvait se douter que ce serait à ce point ? \n 
URL:https://theatrearlequin.morsang.net/event/23717/
CATEGORIES:Juin - Août,Made in Cœur d’Essonne,pratiques amateurs
ATTACH;FMTTYPE=image/jpeg:https://theatrearlequin.morsang.net/wp-content/uploads/2023/05/E910BE40-6BE9-4D51-AC12-3F0626EC0E80_4_5005_c.jpeg
END:VEVENT
END:VCALENDAR