BEGIN:VCALENDAR
VERSION:2.0
PRODID:-//Théâtre de l’Arlequin - ECPv5.6.0//NONSGML v1.0//EN
CALSCALE:GREGORIAN
METHOD:PUBLISH
X-WR-CALNAME:Théâtre de l’Arlequin
X-ORIGINAL-URL:https://theatrearlequin.morsang.net
X-WR-CALDESC:évènements pour Théâtre de l’Arlequin
BEGIN:VTIMEZONE
TZID:Europe/Paris
BEGIN:DAYLIGHT
TZOFFSETFROM:+0100
TZOFFSETTO:+0200
TZNAME:CEST
DTSTART:20230326T010000
END:DAYLIGHT
BEGIN:STANDARD
TZOFFSETFROM:+0200
TZOFFSETTO:+0100
TZNAME:CET
DTSTART:20231029T010000
END:STANDARD
END:VTIMEZONE
BEGIN:VEVENT
DTSTART;TZID=Europe/Paris:20230625T160000
DTEND;TZID=Europe/Paris:20230625T170000
DTSTAMP:20260423T142402
CREATED:20230530T145948Z
LAST-MODIFIED:20230531T125920Z
UID:23705-1687708800-1687712400@theatrearlequin.morsang.net
SUMMARY:Arrêt Ou Li Po
DESCRIPTION:Dimanche 25 juin à 16h\nAtelier théâtre de la MJC Sainte Geneviève des Bois\nARRÊT OU LI PO\nde Raymond Queneau\, Extraits de « Pièces détachées » \nAtelier dirigé par Sandrine Vicente \nAvec : Ronan Bouvet\, Cindy Clavier\, Elio Flecq\, Axel Formont\, Muriel Hulin\, Claude Kouamé\, Anna Laplace\, Christine Leriche\, Claire Maani\, Rachelle Malard\, Fanny Nové-Josserand\, Mohamed Salifou\, Philippe Yacoub. \nDescriptif : OuLiPo ? Qu’est-ce ceci ? Qu’est-ce cela ? \nQu’est-ce que Ou ? Qu’est-ce Li ? Qu’est- ce que Po ? \nNous vous invitons à faire un voyage haut en couleur en compagnie de personnages poètes aussi loufoques qu’attachants\, direction station OuLiPo!
URL:https://theatrearlequin.morsang.net/event/arret-ou-li-po/
CATEGORIES:Juin - Août,Made in Cœur d’Essonne,pratiques amateurs
ATTACH;FMTTYPE=image/png:https://theatrearlequin.morsang.net/wp-content/uploads/2023/05/436177B4-0384-434B-9774-ED4E3573DB9D.png
END:VEVENT
END:VCALENDAR