BEGIN:VCALENDAR
VERSION:2.0
PRODID:-//Théâtre de l’Arlequin - ECPv5.6.0//NONSGML v1.0//EN
CALSCALE:GREGORIAN
METHOD:PUBLISH
X-WR-CALNAME:Théâtre de l’Arlequin
X-ORIGINAL-URL:https://theatrearlequin.morsang.net
X-WR-CALDESC:évènements pour Théâtre de l’Arlequin
BEGIN:VTIMEZONE
TZID:Europe/Paris
BEGIN:DAYLIGHT
TZOFFSETFROM:+0100
TZOFFSETTO:+0200
TZNAME:CEST
DTSTART:20230326T010000
END:DAYLIGHT
BEGIN:STANDARD
TZOFFSETFROM:+0200
TZOFFSETTO:+0100
TZNAME:CET
DTSTART:20231029T010000
END:STANDARD
END:VTIMEZONE
BEGIN:VEVENT
DTSTART;VALUE=DATE:20230112
DTEND;VALUE=DATE:20230206
DTSTAMP:20260424T035858
CREATED:20230118T154307Z
LAST-MODIFIED:20230121T135356Z
UID:22750-1673481600-1675641599@theatrearlequin.morsang.net
SUMMARY:BARODA\, L'ARLEQUIN ET L'EM FEST (festival)
DESCRIPTION:Les équipes de BaroDa/Culture en partage (Mali) et du théâtre de l’Arlequin (Morsang-sur-Orge) sont impliquées dans 16 événements de l’EM FEST 2023 (Essonne-Mali Festival)\, avec la Cie Bolon et l’association Culture 360\nJeudi 12 janvier – 20h30\, conférence de Jean-Louis Sagot-Duvauroux sur l’univers culturel et spirituel des marionnettes bozos\, en lien avec l’exposition présentée à la médiathèque Chantemerle de Corbeil-Essonnes. \nMardi 17 janvier\, 18h30\, Rencontre des danseurs Ousmane Koné et Alou Cissé Zol avec les détenus du Centre de semi-liberté de Corbeil-Essonnes \nMercredi 25 janvier\, 14h à 18h\, présentation à la maison de quartier d’Evry Village (Evry-Courcouronnes) par l’association Culture 360 de Yaya et son peuple de marionnettes\, document VR (réalité virtuelle) co-produit par BaroDa/Culture en partage (Bamako)\n\nVendredi 27  janvier\, 20h30 Théâtre de l’Arlequin – 37 rue Jean-Raynal – 91390 Morsang-sur-Orge – Parcours Evasions 1 :  « #marenostrum (installation d sulcptures)/ « Je est un autre » (théâtre) / « Entre Nous » (danse) \nVendredi 27 janvier\, 17h à 19h\, présentation au Centre culturel Brel-Brassens (Evry-Courcouronnes) par l’association Culture 360 de Yaya et son peuple de marionnettes\, document VR (réalité virtuelle) co-produit par BaroDa/Culture en partage (Bamako) \nSamedi 28 janvier 2023 – 20h – Médiathèque Chantemerle – 84\, rue Féray – 91510 Corbeil-Essonnes – ENTRE NOUS\, duo chorégraphique \nLundi 30  janvier 2023 à 14h30 – Maison d’arrêt de Fleury-Mérogis  – ENTRE NOUS\, duo chorégraphique \nMardi 31  janvier 2023 à 15h00 – Médiathèque Andrée Chedid – 6 Av. des Gardes Messiers\, 91360 Villemoisson-sur-Orge – ENTRE NOUS\, duo chorégraphique  \nMercredi 1er février\, 17h à 19h\, présentation à la Maison de quartier Jacques-Prévert Bois sauvage (Evry-Courcouronnes) par l’association Culture 360 de Yaya et son peuple de marionnettes\, document VR (réalité virtuelle) co-produit par BaroDa/Culture en partage (Bamako) \nJeudi 2 février 2023 – 20h30\, Théâtre Donald Cardwell – 1 av de Villiers – 91210 Draveil – Parcours Evasions :  « #marenostrum (installation)/ « Je est un autre » (théâtre) / « Entre Nous » (danse) avec l’Association TransAide Draveil-Sandaré – Suivi d’un débat avec Jean-Louis Sagot-Duvauroux : « Les arts et cultures\, traits d’union dans une humanité fracturée ». \nVendredi 3 février 2023 – Espace culturel Boris Vian – 1 Rue du Morvan\, 91940 Les Ulis Installation #MareNostrum au Foyer de l’Espace Culturel \nVendredi 3 février 2023 – 10h30 – duo ENTRE NOUS et rencontre avec les élèves du Lycée de l’Essouriau (Les Ulis)\nAvenue de Dordogne – 91940 Les Ulis \nVendredi 3 février 2023 – 16h30 – duo ENTRE NOUS et rencontre avec les usagers de la Maison pour tous de Courdimanche- Les Ulis \nSamedi 4 février 2023 à 19h30  Espace culturel Boris Vian – 1 Rue du Morvan\, 91940 Les Ulis – Parcours Evasions :  « #marenostrum (installation d sulcptures)/ « Entre Nous » (danse) \nSamedi 4 février 2023 de 14h à 16h – Médiathèque de Marolles – 3 Grande Rue\, 91630 Marolles-en-Hurepoix – Atelier « VR » Réalité virtuelle sur la culture vivante et patrimoniale du Mali \n Dimanche 5 février 2023 – 15h – séance tout public – Salle François des Garets – Av. du Lieutenant Agoutin\, 91630 Marolles-en-Hurepoix – Parcours Evasions :  « #marenostrum (installation)/ « Je est un autre » (théâtre) / « Entre Nous » (danse) \n  \nPour en savoir plus sur la pièce chorégraphique ENTRE NOUS et le parcours EVASIONS : https://theatrearlequin.morsang.net/event/evasions-parcours-artistique/\n@Marenostrum : installation de sculptures de Haude Bernabé\nJe est un autre – choix de textes tirés de « Bilal sur la route des clandestins » de Fabrizio Gatti et dits par Jean-Paul Sermadiras\nEntre nous – pièce de danse créée par Ousmane Koné et Yacouba Coulibaly\, interprétée par Ousmane Koné et Alou Cissé Zol\n  \n  \nL’ouvrage dont sont tirés les textes \nNous recommandons vivement cet ouvrage de Fabrizio Gatti\, journaliste d’investigation italien\, qui a consacré plusieurs années de sa vie à faire le voyage des aspirants immigrés d’Afrique : Dakar\, Bamako\, Niamey\, Agadez\, Sfax\, Lampedusa… L’auteur a su écouter et voir la grandeur et les maux de cette Afrique et de ces Africains\, ce qui est rare. Il en tire des analyses et des notations d’une profonde humanité. Merci aussi à son éditrice\, Liana Lévi\, qui a donné vie à ce texte et lui a permis de passer entre des milliers de mains. C’est de cet ouvrage qu’avec l’autorisation de l’auteur\, nous avons tiré les textes dits par Jean-Paul Sermadiras dans  parcours artistique EVASIONS. \n  \n  \n  \nL’EM FEST est placé sous le patronage de la Commission nationale française pour l’UNESCO\nParrain et marraine : Amadou et Mariam\n  \nSOUTIENS
URL:https://theatrearlequin.morsang.net/event/baroda-larlequin-et-lem-fest-festival/
CATEGORIES:#EMFest,Afrique,Conférence,Danse,janvier – mai
ATTACH;FMTTYPE=image/png:https://theatrearlequin.morsang.net/wp-content/uploads/2023/01/DF0867A3-07A9-4841-BE78-2A73B2D80DC7.png
END:VEVENT
END:VCALENDAR