BEGIN:VCALENDAR
VERSION:2.0
PRODID:-//Théâtre de l’Arlequin - ECPv5.6.0//NONSGML v1.0//EN
CALSCALE:GREGORIAN
METHOD:PUBLISH
X-WR-CALNAME:Théâtre de l’Arlequin
X-ORIGINAL-URL:https://theatrearlequin.morsang.net
X-WR-CALDESC:évènements pour Théâtre de l’Arlequin
BEGIN:VTIMEZONE
TZID:Europe/Paris
BEGIN:DAYLIGHT
TZOFFSETFROM:+0100
TZOFFSETTO:+0200
TZNAME:CEST
DTSTART:20250330T010000
END:DAYLIGHT
BEGIN:STANDARD
TZOFFSETFROM:+0200
TZOFFSETTO:+0100
TZNAME:CET
DTSTART:20251026T010000
END:STANDARD
END:VTIMEZONE
BEGIN:VEVENT
DTSTART;TZID=Europe/Paris:20250627T203000
DTEND;TZID=Europe/Paris:20250627T203000
DTSTAMP:20260419T141816
CREATED:20250609T062343Z
LAST-MODIFIED:20250609T062343Z
UID:29546-1751056200-1751056200@theatrearlequin.morsang.net
SUMMARY:COMMENT JE SUIS DEVENUE CINGLÉE (théâtre)
DESCRIPTION:vendredi 27 juin à 20h30\nComment je suis devenue cinglée\nSurvivre à la guerre. Survivre aux hommes.\n\n\n\n\n\n\nPendant la guerre\, une jeune fille est arrachée à son père et forcée à devenir la compagne d’un commandant rebelle. Quand il meurt assassiné\, elle parvient à rejoindre la zone contrôlée par l’armée. Mais elle tombe entre les mains d’un colonel véreux qui la transforme en objet sexuel. Quand la croix rouge arrive pour évacuer les gens regroupés dans un site\, le colonel l’enferme dans sa maison\, l’empêchant de partir. Afin de se libérer\, elle essaie d’utiliser une kalachnikov de réserve pour faire sauter la serrure…\n\n\nDans le cadre du festival GRIGNY INVITE LE MONDE\nCompagnie PLATEAU KIMPA-THEATRE\nTexte : Faustin Keoua – Leturmy (Congo)\nMise en scène : Jean Felhyt Kimbirima (Congo-France)\nInterprétation : Gaelle Andrée Ngangoula (Congo)
URL:https://theatrearlequin.morsang.net/event/comment-je-suis-devenue-cinglee-theatre/
CATEGORIES:Afrique,janvier – mai,Juin - Août,Théâtre
ATTACH;FMTTYPE=image/jpeg:https://theatrearlequin.morsang.net/wp-content/uploads/2025/06/visuel-Comment.jpg
END:VEVENT
END:VCALENDAR