BEGIN:VCALENDAR
VERSION:2.0
PRODID:-//Théâtre de l’Arlequin - ECPv5.6.0//NONSGML v1.0//EN
CALSCALE:GREGORIAN
METHOD:PUBLISH
X-WR-CALNAME:Théâtre de l’Arlequin
X-ORIGINAL-URL:https://theatrearlequin.morsang.net
X-WR-CALDESC:évènements pour Théâtre de l’Arlequin
BEGIN:VTIMEZONE
TZID:Europe/Paris
BEGIN:DAYLIGHT
TZOFFSETFROM:+0100
TZOFFSETTO:+0200
TZNAME:CEST
DTSTART:20220327T010000
END:DAYLIGHT
BEGIN:STANDARD
TZOFFSETFROM:+0200
TZOFFSETTO:+0100
TZNAME:CET
DTSTART:20221030T010000
END:STANDARD
END:VTIMEZONE
BEGIN:VEVENT
DTSTART;TZID=Europe/Paris:20220604T200000
DTEND;TZID=Europe/Paris:20220604T200000
DTSTAMP:20260424T020556
CREATED:20220518T152837Z
LAST-MODIFIED:20220518T152837Z
UID:21268-1654372800-1654372800@theatrearlequin.morsang.net
SUMMARY:CONCERT TREIZHADENN (chants marins)
DESCRIPTION:Samedi 4 juin à 20h \nAssociation Les Caliornes groupe Treizhadenn \n CONCERT TREIZHADENN\nMélodies\, danses et chants de marins de Bretagne et des Pays Celtiques. \nAvec : Didier Cornec\, Gilles Bruneau\, Daniel Couëpel\, Alain Nanquette\, Guy Caunet \nTout public\, durée 1h30 plus 30 min d’entracte \n  \nDans le cadre des rencontres Made in Coeur d’Essonne\nCe festival dédié aux aux groupes et compagnies amateur qui depuis longtemps nous font l’amitié de s’associer\, au fil des saisons\, à la vie du théâtre de l’Arlequin\n\nDes compagnies de toute l’agglomération du Cœur d’Essonne. Du théâtre\, de la musique. De la passion et de l’audace.\nMade in Coeur d’Essonne vous présente 15 spectacles en 4 semaines.\nAu théâtre de l’Arlequin\, 35 rue Jean Raynal\, 91390 Morsang sur Orge\nRéservation 01.69.25.49.15 ou sur le site https://theatrearlequin.morsang.net\nEt toujours les tarifs habituels de 2€\, 5€\, 10€ au choix\, 1€ enfants de moins de 12 ans\, mais cette fois\, la recette va intégralement à la compagnie qui joue. \nTOUT LE PROGRAMME DU FESTIVAL SOUS CE LIEN
URL:https://theatrearlequin.morsang.net/event/concert-treizhadenn-chants-marins/
CATEGORIES:Chanson,Juin - Août,Made in Cœur d’Essonne,pratiques amateurs
ATTACH;FMTTYPE=image/jpeg:https://theatrearlequin.morsang.net/wp-content/uploads/2022/05/5860_accueil.jpg
END:VEVENT
END:VCALENDAR