BEGIN:VCALENDAR
VERSION:2.0
PRODID:-//Théâtre de l’Arlequin - ECPv5.6.0//NONSGML v1.0//EN
CALSCALE:GREGORIAN
METHOD:PUBLISH
X-WR-CALNAME:Théâtre de l’Arlequin
X-ORIGINAL-URL:https://theatrearlequin.morsang.net
X-WR-CALDESC:évènements pour Théâtre de l’Arlequin
BEGIN:VTIMEZONE
TZID:Europe/Paris
BEGIN:DAYLIGHT
TZOFFSETFROM:+0100
TZOFFSETTO:+0200
TZNAME:CEST
DTSTART:20210328T010000
END:DAYLIGHT
BEGIN:STANDARD
TZOFFSETFROM:+0200
TZOFFSETTO:+0100
TZNAME:CET
DTSTART:20211031T010000
END:STANDARD
END:VTIMEZONE
BEGIN:VEVENT
DTSTART;TZID=Europe/Paris:20211003T170000
DTEND;TZID=Europe/Paris:20211003T170000
DTSTAMP:20260425T200128
CREATED:20210113T095141Z
LAST-MODIFIED:20210726T093034Z
UID:18861-1633280400-1633280400@theatrearlequin.morsang.net
SUMMARY:DÉSAXÉ (théâtre)
DESCRIPTION:Dimanche 3 octobre 2021 à 17 h – Théâtre  \nDésaxé\nde Hakim Djaziri – Cie Teknaï – mise en scène Quentin Defalt – avec Florian Chauvet\, Hakim Djaziri et Leïla Guérémy \n  \nDésaxé aborde la situation que vit une jeunesse d’aujourd’hui en recherche de sens. Le vrai propos de la pièce n’est pas tant le djihadisme que la rupture identitaire. Hakim Djaziri n’a pas eu besoin de s’entretenir avec des apprentis djihadistes candidats au départ pour écrire sa pièce ; il s’est tout simplement inspiré de son vécu de jeune musulman européen. Il y pointe les parcours hasardeux\, ces aventures surréalistes dont il dénonce la fausse fatalité. Pour soigner cette société qui va mal\, il faut toucher au cœur\, et l’ambition de son texte est d’atteindre à l’universel dans un partage avec tous les publics. \n  \nLa compagnie Teknaï\nLa compagnie Teknaï est créée en 1999 par Quentin Defalt afin de mettre en scène Croisades de Michel Azama puis s’est tournée ensuite vers les écritures collectives pour cerner au plus près les sujets que sont la solitude\, l’isolement\, la rupture identitaire\, la quête de soi. Depuis lors\, elle alterne entre l’écriture collective (Le cycles Les Cadouin\, Sosies) et la collaboration avec des auteurs et des autrices\, notamment Aïda Asgharzadeh\, nommée en 2018 aux Molières dans la catégorie Meilleur auteur francophone pour Les Vibrants\, et Hakim Djaziri\, lauréat du Grand Prix du Théâtre pour Désaxé. \nDe 2013 à 2016\, Teknaï a été en résidence à la Maison du Théâtre et de la Danse d’Epinay-sur-Seine et soutenu par le département de la Seine-Saint-Denis. \nQuentin Defalt a créé à ce jour une vingtaine de spectacles pour tous les publics\, représentés entre autre au Théâtre du Rond-Point\, au Théâtre 13\, au Studio des Champs-Elysées\, au Théâtre de la Reine Blanche\, au Studio Hébertot… \nEn 2016\, Teknaï a reçu le Prix Théâtre Adami 2016. Ce prix récompense une compagnie pour la diversité de son activité\, son talent d’interprétation et l’originalité de ses créations. \n \nExtraits de Presse\n« Une pièce quasi-autobiographique autour d’un comédien dans son propre rôle. Un texte »vrai »\, des acteurs subtils\, une mise en scène inspirée. » franceinfo culture (Jacky Bornet) \n« Chacun repart le cœur ému\, remué mais avec un supplément d’âme\, une approche un peu moins théorique de ce qu’est la rupture identitaire. Un moment précieux. » Le Vaucluse (Any Favier) \n« La mise en scène de Quentin Defalt est habile. (…) Tout un pan de notre société est là\, évoqué dans un très beau cocktail de colère et de tendresse\, à base de parole populaire et d’éclairs littéraire. Il faudra désormais compter avec Hakim Djaziri. Ce premier texte\, Désaxé\, est un doux coup de tonnerre. » WebThéâtre (Gilles Costaz) \n« Un résultat de haute tenue. Un beau travail abouti. » Les Trois coups (Laura Plas) \n« Une véritable onde de choc qui interpelle nos consciences. » La Tribune (Laure Ostwalt) \n« L’écriture est d’une efficacité redoutable et elle résonne avec d’autant plus de force qu’elle est en partie autobiographique. Quentin Defalt met en scène ce texte coup de poing. Comme à son habitude il convoque une esthétique particulièrement chiadée\, épurée et sombre. C’est douloureux\, révoltant mais nécessaire.» Théâtre.com (Audrey Jean)
URL:https://theatrearlequin.morsang.net/event/desaxe-theatre/
CATEGORIES:septembre – décembre,Théâtre
ATTACH;FMTTYPE=image/jpeg:https://theatrearlequin.morsang.net/wp-content/uploads/2021/01/Desaxe-©-Francois-Vila-4-scaled.jpg
END:VEVENT
END:VCALENDAR