BEGIN:VCALENDAR
VERSION:2.0
PRODID:-//Théâtre de l’Arlequin - ECPv5.6.0//NONSGML v1.0//EN
CALSCALE:GREGORIAN
METHOD:PUBLISH
X-WR-CALNAME:Théâtre de l’Arlequin
X-ORIGINAL-URL:https://theatrearlequin.morsang.net
X-WR-CALDESC:évènements pour Théâtre de l’Arlequin
BEGIN:VTIMEZONE
TZID:Europe/Paris
BEGIN:DAYLIGHT
TZOFFSETFROM:+0100
TZOFFSETTO:+0200
TZNAME:CEST
DTSTART:20240331T010000
END:DAYLIGHT
BEGIN:STANDARD
TZOFFSETFROM:+0200
TZOFFSETTO:+0100
TZNAME:CET
DTSTART:20241027T010000
END:STANDARD
END:VTIMEZONE
BEGIN:VEVENT
DTSTART;TZID=Europe/Paris:20240601T200000
DTEND;TZID=Europe/Paris:20240601T200000
DTSTAMP:20260423T175821
CREATED:20240511T062120Z
LAST-MODIFIED:20240511T062120Z
UID:26233-1717272000-1717272000@theatrearlequin.morsang.net
SUMMARY:DIABLOGONS
DESCRIPTION:  \nsamedi 1er juin à 20h / FESTIVAL MADE IN COEUR D’ESSONNE \nAtelier Les gaufres » de Viry Chatillon \nDIABLOGONS\, d’après « Les diablogues » de Roland Dubillard\nAvec cet univers de conversations absurdes\, Roland Dubillard a reçu\, pour « les diablogues »\, le Molière de l’auteur francophone vivant en 2008. \n« Dans « LES DIABLOGUES »\, Roland Dubillard réinvente à sa façon le dialogue de sourds. C’est simple comme bonjour. Prenez deux protagonistes\, appelez les Un et Deux\, et donnez leur l’apparence de comédiens pince sans rire\, Jacques Gamblin et François Morel\, par exemple. Il n’y a plus qu’à les laisser s’expliquer avec les mots de l’auteur. Bientôt le réel se met à tanguer. L’analyse d’une simple expression déclenche des catastrophes de malentendus\, des cascades de quiproquos\, des tonnes de calembours vertigineux. Le quotidien bascule dans le fantastique\, l’ordre cède la place au chaos le plus hilarant. » \nThéâtre contemporain.net \nMise en scène : Bernard Gaudiche\nAvec : Jean Fedèle et Franck Inrep
URL:https://theatrearlequin.morsang.net/event/diablogons/
CATEGORIES:janvier – mai,Juin - Août,Made in Cœur d’Essonne,pratiques amateurs
ATTACH;FMTTYPE=image/png:https://theatrearlequin.morsang.net/wp-content/uploads/2024/05/06-01-image-DIABLOG.png
END:VEVENT
END:VCALENDAR