BEGIN:VCALENDAR
VERSION:2.0
PRODID:-//Théâtre de l’Arlequin - ECPv5.6.0//NONSGML v1.0//EN
CALSCALE:GREGORIAN
METHOD:PUBLISH
X-WR-CALNAME:Théâtre de l’Arlequin
X-ORIGINAL-URL:https://theatrearlequin.morsang.net
X-WR-CALDESC:évènements pour Théâtre de l’Arlequin
BEGIN:VTIMEZONE
TZID:Europe/Paris
BEGIN:DAYLIGHT
TZOFFSETFROM:+0100
TZOFFSETTO:+0200
TZNAME:CEST
DTSTART:20240331T010000
END:DAYLIGHT
BEGIN:STANDARD
TZOFFSETFROM:+0200
TZOFFSETTO:+0100
TZNAME:CET
DTSTART:20241027T010000
END:STANDARD
END:VTIMEZONE
BEGIN:VEVENT
DTSTART;TZID=Europe/Paris:20240119T080000
DTEND;TZID=Europe/Paris:20240210T230000
DTSTAMP:20260423T060132
CREATED:20231222T124417Z
LAST-MODIFIED:20240204T075551Z
UID:24679-1705651200-1707606000@theatrearlequin.morsang.net
SUMMARY:EMFEST 2024 (Essonne-Mali Festival)
DESCRIPTION:Comme chaque année\, la Compagnie BaroDa et le théâtre de l’Arlequin participent très activement à la programmation de l’EMFest (Essonne-Mali Festival) avec notamment cette année deux spectacles venus du Mali : KotÉsope et Ni bèè ni (une création) . Pour en savoir plus\, voir la programmation Arlequin de ces spectacles. L’Arlequin et BaroDa participent aussi à l’organisation d’un concert d’Oumou Diarra à Draveil et à des rencontres/conférences sur la situation du Mali. \nKOTÉSOPE \nUn spectacle tout public et tout terrain\, adapté au très jeune public\, qui met en scène des fables d’Ésope jouées en français et en bamanan kan (bambara) dans le style du kotèba (farces burlesques de critique sociale). Un vecteur idéal pour toucher les publics populaires sur leurs lieux de vie : établissements scolaires\, centres sociaux\, foyers\, jardins publics\, etc. 18 fables tournées en vidéos publiées sur les réseaux ont obtenu plus d’un million de vue sur TikTok. \nNI BÈÈ NI (Toute vie est une vie) \nLe spectacle est construit sur la base de deux récits initiatiques. Le premier illustre l’alliance entre les humains et la nature à partir d’une étrange complicité entre un chasseur et les animaux qu’il a l’habitude de chasser. Le second renverse à travers des épisodes très romanesques les rôles respectivement assignés aux hommes et aux femmes. Le spectacle se clôt sur le « serment des donsow »\, concentré de la Charte du Manden adoptée au début du XIIIe siècle et fondement du Mali classique. « Ni bèè ni » (toute vie est une vie) en est l’affirmation inaugurale. La scène est ornée de trois bannières peintes par le plasticien dogon Amassolou Guindo. \n.  .                                                      . \nBARODA ET L’ARLEQUIN DANS L’EMFEST 2024\nComme chaque année\, BaroDa/L’Arlequin assurent une intense tournée d’oeuvres maliennes dans le cadre de l’EMFest (Essonne-Mali Festival) : 14 représentations théâtrales + 4 ateliers scolaires + un concert + une conférence + une exposition = 20 événements.\nDimanche 21 janvier 17h – Kotésope – Théâtre de l’Arlequin \nMardi 23 janvier 9h\, 10h30 et 14h – kotÉsope (représentations courtes pour les écoles élémentaires) – Médiathèque Villemoisson \nVendredi 26 janvier 14h30 – « Ni bèè ni » Représentation scolaire à l’Arlequin \nVendredi 26 janvier 21h – Concert d’Oumou Diarra au Café-culture de Draveil \nSamedi 27 janvier 16h30 – kotÉsope – MJC Fernand Léger Corbeil. \nSamedi 27 janvier 20h – KotÉsope à la réouverture de la galerie d’art de Sylvain Maraux à Longjumeau \n \n  \n  \n  \nDimanche 28 janvier 17h – « Ni bèè ni »\, Arlequin \nLundi 29 janvier 10h30 et 14h30 – KotÉsope – Maison d’arrêt Fleury-Mérogis \nMercredi 31 janvier Le matin 10h – Conférence sur la crise institutionnelle en Afrique – Médiathèque de Sainte-Geneviève-des-Bois (reporté à une date à déterminer) \n16h – kotÉsope – Médiathèque SGDB / SGDB (Elodie Quignon) Les mères veilleuses. \nJeudi 1er février 10h30 et 14h30 – KotÉsope Théâtre D.Caldwell de Draveil – séances scolaires \nVendredi 2 févier 14h30 et 15h30 – kotÉsope – présentation en ateliers aux CM1-CM2 de Marolles \nSamedi 3 février 16h kotÉsope – Médiathèque Marolles (après-midi). \nLundi 5 février 10h et 14h – Ateliers avec des scolaires de Draveil (École Antoine de Saint-Exupéry) \n  \nPROLONGATIONS… \nDans le mouvement de l’EMFEST\, mais hors dates initiales\, une exposition d’arts plastiques. \nJeudi 7 mars au Dimanche 17 Mars – Exposition « Les rencontres Africaines »\, au Château de Villiers (3 Av de Villiers – Draveil). Visites tous les jours de 13h30  à 18h\, Vernissage prévu le samedi 9 mars à 18h.  L’exposition réunit des toiles du peintre dogon Amassolou Guindo et des photographies de la collection de marionnettes de Yaya Coulibaly par Jean-Michel Fickinger. \n                                   
URL:https://theatrearlequin.morsang.net/event/emfest-2024-essonne-mali-festival/
CATEGORIES:#EMFest,janvier – mai,Le mois de BaroDa,septembre – décembre
ATTACH;FMTTYPE=image/jpeg:https://theatrearlequin.morsang.net/wp-content/uploads/2023/12/975DD04C-A295-44EB-AB68-23ED80F0BAA1.jpeg
END:VEVENT
END:VCALENDAR