BEGIN:VCALENDAR
VERSION:2.0
PRODID:-//Théâtre de l’Arlequin - ECPv5.6.0//NONSGML v1.0//EN
CALSCALE:GREGORIAN
METHOD:PUBLISH
X-WR-CALNAME:Théâtre de l’Arlequin
X-ORIGINAL-URL:https://theatrearlequin.morsang.net
X-WR-CALDESC:évènements pour Théâtre de l’Arlequin
BEGIN:VTIMEZONE
TZID:Europe/Paris
BEGIN:DAYLIGHT
TZOFFSETFROM:+0100
TZOFFSETTO:+0200
TZNAME:CEST
DTSTART:20230326T010000
END:DAYLIGHT
BEGIN:STANDARD
TZOFFSETFROM:+0200
TZOFFSETTO:+0100
TZNAME:CET
DTSTART:20231029T010000
END:STANDARD
END:VTIMEZONE
BEGIN:VEVENT
DTSTART;TZID=Europe/Paris:20231202T203000
DTEND;TZID=Europe/Paris:20231202T203000
DTSTAMP:20260423T060245
CREATED:20230825T101051Z
LAST-MODIFIED:20230906T213730Z
UID:24009-1701549000-1701549000@theatrearlequin.morsang.net
SUMMARY:ET L'ACIER S'ENVOLE AUSSI (théâtre-concert)
DESCRIPTION:samedi 2 décembre à 20h30 \nEt l’acier s’envole aussi\nthéâtre-concert \nd’après la correspondance entre Guillaume Apollinaire et Madeleine Pagès \nCompagnie Théâtre du Maquis – Artistes : Florence Hautier\, Samuel Bobin\, Martin Béziers – Metteur en scène : Pierre Béziers  \nNice\, 1er janvier 1915. Madeleine Pagès\, 22 ans\, prend le train en direction de Marseille où elle doit prendre le bateau pour Oran. Un soldat entre dans son compartiment. Ce soldat\, c’est Guillaume Apollinaire qui doit rejoindre son régiment d’artilleurs à Nîmes. La conversation s’engage\, les voyageurs se plaisent\, parlent de poésie\, échangent leurs adresses. Quelques mois plus tard\, entre les tranchées et l’Algérie lointaine\, des lettres vont s’échanger\, d’abord amicales\, puis tendres\, passionnées\, érotiques\, bouleversantes…\nSous un ciel déchiré par les obus d’acier\, depuis l’enfer de cette sale guerre\, le poète guide la jeune fille dans un jeu d’initiation à l’amour et à la volupté\, avec une liberté inouïe\, dans une langue crue et délicate qui apparaît comme un sommet absolu du discours amoureux. Le Maquis a pu avoir accès à des textes inconnus ou inédits de Madeleine Pagès qui lèvent le voile sur cette relation incandescente\, mystérieuse et méconnue.Le spectacle est une plongée dans une histoire à la fois lointaine et familière de guerre et d’amour\, entre projections d’archives\, textes joués ou chantés\, et musiques originales interprétées en direct par des acteurs-musiciens brillants et sensibles.\nCe spectacle est tiré des  » Lettres à Madeleine  » (Ed. Gallimard). Il met en scène les lettres d’amour de Guillaume Apollinaire à Madeleine Pagès d’avril 1915 à septembre 1916. \nTout public à partir de 12 ans \nDurée 1H15
URL:https://theatrearlequin.morsang.net/event/et-lacier-senvole-aussi-theatre-concert/
CATEGORIES:Musique,septembre – décembre,Théâtre
ATTACH;FMTTYPE=image/png:https://theatrearlequin.morsang.net/wp-content/uploads/2023/08/Et-lacier-LD-2.png
END:VEVENT
END:VCALENDAR