BEGIN:VCALENDAR
VERSION:2.0
PRODID:-//Théâtre de l’Arlequin - ECPv5.6.0//NONSGML v1.0//EN
CALSCALE:GREGORIAN
METHOD:PUBLISH
X-WR-CALNAME:Théâtre de l’Arlequin
X-ORIGINAL-URL:https://theatrearlequin.morsang.net
X-WR-CALDESC:évènements pour Théâtre de l’Arlequin
BEGIN:VTIMEZONE
TZID:Europe/Paris
BEGIN:DAYLIGHT
TZOFFSETFROM:+0100
TZOFFSETTO:+0200
TZNAME:CEST
DTSTART:20240331T010000
END:DAYLIGHT
BEGIN:STANDARD
TZOFFSETFROM:+0200
TZOFFSETTO:+0100
TZNAME:CET
DTSTART:20241027T010000
END:STANDARD
END:VTIMEZONE
BEGIN:VEVENT
DTSTART;TZID=Europe/Paris:20241213T190000
DTEND;TZID=Europe/Paris:20241213T190000
DTSTAMP:20260424T061116
CREATED:20241118T140036Z
LAST-MODIFIED:20241118T140752Z
UID:28599-1734116400-1734116400@theatrearlequin.morsang.net
SUMMARY:ÊTRE VIVANT (clown et poules)
DESCRIPTION:Vendredi 13 décembre à 19h : la joie de Noël à l’Arlequin\nÊTRE VIVANT (paroles des oiseaux de la Terre)\n Clown avec 10 poules – compagnie Au Fil du Vent\nConception et jeu : Johanna Gallard \nInspiratrices et partenaires de jeu : Saqui\, Ariane\, Falkora\, Meije\, Pollen\, Naya\, Baba\, Barbara\, Nawa\, Garlic et Micro\nAide à la dramaturgie et matériaux d’écriture: François Cervantès \nCollaborations artistiques : François Cervantès\, Catherine Germain\, Emmanuel Dariès. \nTout public à partir de 5 ans\nDurée 1 heure \n\nDans un château-poulailler ambulant\, au lever du jour\, une équipe de poules entre en scène pour rencontrer le public. À leurs côtés\, Fourmi\, personnage singulier\, est là pour les accompagner. \nElle fait en sorte que tout se passe bien pour que les poules puissent délivrer leur message. Elles ont quelque chose d’essentiel à partager avec le public\, Fourmi en est convaincue. Elle ne sait pas comment cela va se manifester\, et elle ne sait pas à quel moment. Mais ce qui est sûr\, c’est que cela va arriver.\nEn attendant\, la vie suit son cours sur le plateau. Fourmi savoure des moments simples avec les poules. Elle est en lien étroit\, sensible et permanent avec elles\, un véritable exercice d’équilibre. Elle trouve alors naturellement des espaces de parole pour nous raconter leur histoire et son histoire. Comment en sont-elles arrivées à venir jusqu’à un plateau de théâtre pour dévoiler leur vérité ? Les différentes personnalités des poules et leurs traits de caractère au plateau reflètent en écho différents aspects du personnage.\n\nEn attente d’un temps qui pourrait arriver à tout moment\, ces êtres singuliers nous ramènent à la quiétude du présent ; l’état naturel des poules ramenant Fourmi à son état essentiel d’être vivant.\n\n« Être Vivant » est une création atypique tissant sa démarche vers une philosophie de la simplicité. Elle invite à entendre d’autres échos du monde\, ou bien l’écho d’autres mondes si près de nous\, là\, au bord de l’intime.\n\n L’idée de cette nouvelle création est partie de l’envie de poursuivre un partenariat avec les poules dans un spectacle où leur être sera encore plus important que leur « savoir-faire ». Pour questionner l’humain en donnant la parole à ces oiseaux de la terre.\n\nLes poules ont des choses à dire depuis la nuit des temps\, elles étaient là avant l’humain et nous ne les connaissons que très peu. \nPour en savoir plus : compagnie Au Fil du Vent : https://www.aufilduvent.com/spectacles/etre-vivant  \n  \n \n 
URL:https://theatrearlequin.morsang.net/event/etr-vivant-clown-et-poules/
ATTACH;FMTTYPE=image/jpeg:https://theatrearlequin.morsang.net/wp-content/uploads/2024/11/2C537B88-13F9-4137-B85A-00285DF5C7A0_1_201_a-1.jpeg
END:VEVENT
END:VCALENDAR