BEGIN:VCALENDAR
VERSION:2.0
PRODID:-//Théâtre de l’Arlequin - ECPv5.6.0//NONSGML v1.0//EN
CALSCALE:GREGORIAN
METHOD:PUBLISH
X-WR-CALNAME:Théâtre de l’Arlequin
X-ORIGINAL-URL:https://theatrearlequin.morsang.net
X-WR-CALDESC:évènements pour Théâtre de l’Arlequin
BEGIN:VTIMEZONE
TZID:Europe/Paris
BEGIN:DAYLIGHT
TZOFFSETFROM:+0100
TZOFFSETTO:+0200
TZNAME:CEST
DTSTART:20240331T010000
END:DAYLIGHT
BEGIN:STANDARD
TZOFFSETFROM:+0200
TZOFFSETTO:+0100
TZNAME:CET
DTSTART:20241027T010000
END:STANDARD
END:VTIMEZONE
BEGIN:VEVENT
DTSTART;TZID=Europe/Paris:20240323T180000
DTEND;TZID=Europe/Paris:20240323T220000
DTSTAMP:20260423T054636
CREATED:20231206T112202Z
LAST-MODIFIED:20240114T080537Z
UID:24537-1711216800-1711231200@theatrearlequin.morsang.net
SUMMARY:FESTIVAL ESSONNE DANSE (danse)
DESCRIPTION:samedi 23 mars : Festival Essonne Danse\nSoirée de danse contemporaine\, parcours chorégraphique Morsang – La Norville \nLe rendez-vous annuel avec la danse contemporaine et la danse sous toutes ses formes\, c’est ce 23 mars. Cette année\, l‘Arlequin présente deux spectacles au féminin. Le plaisir de cette soirée découverte avec buffet et déplacement – et retour – à La Norville\, avec deux autres propositions\, n’est plus à prouver. \n18h à l’Arlequin deux spectacles de la Cie La Pieuvre\nPremier spectacle : L’épouse\nNée de l’univers des marionnettes\, L’Épouse s’éveille et se cherche loin du réel\, dans nos fantasmes et nos cauchemars. Enfermée dans sa marche nuptiale\, elle bascule d’un espace mental à l’autre. Ce solo raconte un personnage\, une mariée déchue dont le langage n’est que corps\, tentant d’aller vers et de s’adresser à… \n \nConception et interprétation : Rebecca Journo – Musique : Claire M Singer – The Molendinar Written & performed by Claire M Singer Published by Touch Music/Fairwood Music \nDurée : 25 minutes \nDeuxième spectacle : La ménagère\n \nLa Ménagère se saisit du même point de départ : l’enfermement du personnage dans un système de gestes. A l’instar du Glitch art\, La Ménagère se raconte via la contrainte de l’interaction directe entre le son et le geste afin d’aller chercher la faille\, « l’erreur système ». \nChorégraphie\, performance et scénographie : Rebecca Journo – Compositeur et musicien live : Mathieu Bonnafous – Création lumière : Florentin Crouzet-Nico et Iris Julienne – Régisseur lumière : Jules Bourret – Costume : Alya Derris – Dramaturgie et oeil extérieur : Raphaëlle Latini et Tomeo Vergès – Régie générale : Jules Bourret \nDurée : 45 minutes \nSOUTIENS – COPRODUCTIONS \nProduction : La Pieuvre – Partenaires et soutiens : Danse dense (FR) – Les Ateliers Medicis (FR) – Les Petites Scènes Ouvertes (Fr) – Collectif 12 (FR) – Les Brigittines (BE) – La Déviation (FR) – Le point Ephémère (FR) – Micadanses (FR) – Briqueterie – CDCN du Val-de-Marne (FR) \nProjet soutenu par la Région Île-de-France dans le cadre du dispositif FoRTE – Fonds régional pour les talents émergents \n  \n20h30 salle Pablo Picasso deux spectacles : Juste Heddy et Lou de la compagnie Fêtes galantes\nCes deux spectacles sont inclus dans la « saison nomade » du théâtre Brétigny \n   \nLou \nPour répondre à une proposition de Béatrice Massin\, chorégraphe de la compagnie Fêtes Galantes\, Mickaël Phelippeau a choisi de mettre en scène la danseuse Lou Cantor. À travers le récit de son parcours artistique et de superbes moments dansés\, Lou nous transmet joyeusement sa passion pour la danse baroque et la vitalité de cet art. \n« On aime la belle énergie autant que la fragilité qui se dégage sous nos yeux\, sa façon désinvolte de siffler Lully. Tout est juste. » Philippe Noisette – SCENEWEB \nChorégraphie : Mickaël Phelippeau. Interprétation : Lou Cantor. Musiques : Lully – extraits des Folies d’Espagne\, Lully – Air pour Madame la Dauphine\, Rachmaninov – extraits de Folia variations sur un thème de Corelli. Lumières et scénographie : Abigail Fowler. Costumes : Clémentine Monsaingeon. Assistant lumières & régie générale : Thierry Charlier \nJuste Heddy \nEn 2016\, Mickaël Phelippeau rencontre Heddy Salem à Marseille. Touché par la personnalité à la fois entière et sensible du jeune homme\, il réalise son portrait chorégraphique. Heddy se raconte sur scène : son parcours de vie sinueux\, sa passion pour la boxe\, l’OM\, ses racines… Tout cela rejaillit avec force dans sa danse très physique\, sans fioritures et chargée d’émotions. \n« À Marseille\, Heddy décoche une chorégraphie coup de poing. » Marie-Laure Thomas – LA MARSEILLAISE \nChorégraphie de Mickaël Phelippeau. Interprétation : Heddy Salem. Dramaturgie : Anne Kersting. Création lumière : Abigail Fowler. Régie lumière : Antoine Crochemore. Son : Éric Yvelin. Regard extérieur : Marcela Santander Corvalán. \nProduction et soutiens\nLou : Production déléguée : Fêtes galantes. Coproduction : bi-p association\, Théâtre Paul Éluard – Bezons dans le cadre de la résidence artistique de Fêtes galantes 2017-2018. En partenariat avec le POC d’Alfortville. Avec le soutien du CDCN du Val de-Marne – La Briqueterie. Avec l’aide à la création du Conseil départemental du Val-de-Marne. Remerciements : bi-p association / Mickaël Phelippeau ; Philippe Cantor. \nJuste Heddy : Production déléguée : bi-p. Coproduction : Le Zef – scène nationale de Marseille\, CCN de Caen en Normandie. Avec le soutien de l’Institut français de Casablanca\, dans le cadre de son programme de résidences artistiques et culturelles 2017\, de KLAP Maison pour la danse à Marseille. \nCrédit photo \nLou : Patrick Cockpit / Hans Lucas – Juste Heddy : Philippe Savoir \n 
URL:https://theatrearlequin.morsang.net/event/festival-essonne-danse-danse/
CATEGORIES:Danse,janvier – mai,septembre – décembre
ATTACH;FMTTYPE=image/jpeg:https://theatrearlequin.morsang.net/wp-content/uploads/2023/12/36611B2B-1294-4ED4-94F2-4512FAD24143_4_5005_c.jpeg
END:VEVENT
END:VCALENDAR