BEGIN:VCALENDAR
VERSION:2.0
PRODID:-//Théâtre de l’Arlequin - ECPv5.6.0//NONSGML v1.0//EN
CALSCALE:GREGORIAN
METHOD:PUBLISH
X-WR-CALNAME:Théâtre de l’Arlequin
X-ORIGINAL-URL:https://theatrearlequin.morsang.net
X-WR-CALDESC:évènements pour Théâtre de l’Arlequin
BEGIN:VTIMEZONE
TZID:Europe/Paris
BEGIN:DAYLIGHT
TZOFFSETFROM:+0100
TZOFFSETTO:+0200
TZNAME:CEST
DTSTART:20240331T010000
END:DAYLIGHT
BEGIN:STANDARD
TZOFFSETFROM:+0200
TZOFFSETTO:+0100
TZNAME:CET
DTSTART:20241027T010000
END:STANDARD
END:VTIMEZONE
BEGIN:VEVENT
DTSTART;TZID=Europe/Paris:20240210T203000
DTEND;TZID=Europe/Paris:20240210T203000
DTSTAMP:20260423T090442
CREATED:20231206T111837Z
LAST-MODIFIED:20231207T162704Z
UID:24508-1707597000-1707597000@theatrearlequin.morsang.net
SUMMARY:FÊTE MUSICALE ANTILLAISE (Concert)
DESCRIPTION:samedi 10 février à 20h30 \nFête musicale Antillaise \npar le groupe Piment Doux \navec Daniel Nugent ( guitare/ chant) \nJean-pierre Misaine ! Basse) \nDaniel Misaine (Violon/ Chant) \nAlex Ludo ( Piano/ Chant) \nJean-Michel Franciette ( Batterie) \nLe groupe Piment Doux joue de la musique traditionnelle des caraïbes: Biguines\, Mazurkas\, Quadrilles\, Calypsos et Zoucs. Il est composé de 5 musiciens: Guyane\, Martinique\, Guadeloupe. Ce groupe fera danser et vous fera passer un moment d’échange festif.Il élargira son répertoire avec des musiques d’Amérique Latine: Cuba\, Brésil\, Trinidad. \nNous vous inviterons aussi à chanter avec nous. \n 
URL:https://theatrearlequin.morsang.net/event/fete-musicale-antillaise-concert/
CATEGORIES:janvier – mai,Le mois de BaroDa,Musique,septembre – décembre
ATTACH;FMTTYPE=image/jpeg:https://theatrearlequin.morsang.net/wp-content/uploads/2023/12/Capture-décran-2023-12-06-à-10.40.10.jpeg
END:VEVENT
END:VCALENDAR