BEGIN:VCALENDAR
VERSION:2.0
PRODID:-//Théâtre de l’Arlequin - ECPv5.6.0//NONSGML v1.0//EN
CALSCALE:GREGORIAN
METHOD:PUBLISH
X-WR-CALNAME:Théâtre de l’Arlequin
X-ORIGINAL-URL:https://theatrearlequin.morsang.net
X-WR-CALDESC:évènements pour Théâtre de l’Arlequin
BEGIN:VTIMEZONE
TZID:Europe/Paris
BEGIN:DAYLIGHT
TZOFFSETFROM:+0100
TZOFFSETTO:+0200
TZNAME:CEST
DTSTART:20230326T010000
END:DAYLIGHT
BEGIN:STANDARD
TZOFFSETFROM:+0200
TZOFFSETTO:+0100
TZNAME:CET
DTSTART:20231029T010000
END:STANDARD
END:VTIMEZONE
BEGIN:VEVENT
DTSTART;TZID=Europe/Paris:20230615T200000
DTEND;TZID=Europe/Paris:20230615T200000
DTSTAMP:20260423T170017
CREATED:20230528T091011Z
LAST-MODIFIED:20230529T000243Z
UID:23639-1686859200-1686859200@theatrearlequin.morsang.net
SUMMARY:First date
DESCRIPTION:Jeudi 15 juin à 20h \nAssociation Plume en scène\nFIRST DATE\nAdaptation et mise en scène : d’Antoine Mathey \nAvec la troupe de Plume en Scène : Léa-Marine BAUGER\, Hélène BRIERE-LANNELUC\, Hugo GIRARDON\, Clémentine MARCES\, Anaêlle PAPONNEAU\, Eolyne SAVARY et Meng UNG. \nDescriptif : Éric et Cassie\, deux parisiens trentenaires\, se retrouvent un soir dans un restaurant pour un rendez-vous à l’aveugle organisé par familles et amis. Lui est un financier timide et honnête\, marqué par une rupture difficile\, qui recherche l’amour avec un grand “A”. Elle est une artiste fun\, taquine et un peu trop funky pour les bureaux austères de la Défense\, et “s’engager” ne fait pas vraiment partie de son vocabulaire.
URL:https://theatrearlequin.morsang.net/event/first-date/
CATEGORIES:Juin - Août,Made in Cœur d’Essonne,pratiques amateurs,Théâtre
ATTACH;FMTTYPE=image/jpeg:https://theatrearlequin.morsang.net/wp-content/uploads/2023/05/E4C6CF44-DC4F-4FED-9E53-C5E37C4EF366_4_5005_c.jpeg
END:VEVENT
END:VCALENDAR