BEGIN:VCALENDAR
VERSION:2.0
PRODID:-//Théâtre de l’Arlequin - ECPv5.6.0//NONSGML v1.0//EN
CALSCALE:GREGORIAN
METHOD:PUBLISH
X-WR-CALNAME:Théâtre de l’Arlequin
X-ORIGINAL-URL:https://theatrearlequin.morsang.net
X-WR-CALDESC:évènements pour Théâtre de l’Arlequin
BEGIN:VTIMEZONE
TZID:Europe/Paris
BEGIN:DAYLIGHT
TZOFFSETFROM:+0100
TZOFFSETTO:+0200
TZNAME:CEST
DTSTART:20240331T010000
END:DAYLIGHT
BEGIN:STANDARD
TZOFFSETFROM:+0200
TZOFFSETTO:+0100
TZNAME:CET
DTSTART:20241027T010000
END:STANDARD
END:VTIMEZONE
BEGIN:VEVENT
DTSTART;TZID=Europe/Paris:20240613T200000
DTEND;TZID=Europe/Paris:20240613T200000
DTSTAMP:20260423T032942
CREATED:20240511T071335Z
LAST-MODIFIED:20240601T182141Z
UID:26269-1718308800-1718308800@theatrearlequin.morsang.net
SUMMARY:HISTOIRES D'ÂMES
DESCRIPTION:jeudi 13 juin à 20h / FESTIVAL MADE IN COEUR D’ESSONNE \nCompagnie Les Planches bavardes \nHISTOIRES D’ÂMES de Lilian Lloyd\n« […] Quelquefois\, cela ressemble à des histoires d’âmes. Par-là\, j’entends des histoires d’amour (ces trucs qui caressent quand on les vit\, et qui piquent quand ils ne sont plus que des souvenirs)\, mais aussi des états d’âmes » \nUne kyrielle de personnages se succèdent sur scène. Ils vivent tour à tour des rencontres ou des déceptions ; des surprises ou des épreuves et nous rappellent notre condition d’être humain. \nAvec énergie et humour s’offrent à nous des textes sur les thèmes de l’amour\, l’abandon\, la solitude\, la mort\, le bonheur… \n  \nMise en scène : Nadège Bodigoff\nAvec : Tsiala Benard\, Virginie Guerin\, Sylvain Huppe\, Emmanuel Vignolle\, Vincent Villion
URL:https://theatrearlequin.morsang.net/event/histoires-dames/
CATEGORIES:janvier – mai,Juin - Août,Made in Cœur d’Essonne,pratiques amateurs
ATTACH;FMTTYPE=image/jpeg:https://theatrearlequin.morsang.net/wp-content/uploads/2024/05/06-13-Histoires-dâmes.jpeg
END:VEVENT
END:VCALENDAR