BEGIN:VCALENDAR
VERSION:2.0
PRODID:-//Théâtre de l’Arlequin - ECPv5.6.0//NONSGML v1.0//EN
CALSCALE:GREGORIAN
METHOD:PUBLISH
X-WR-CALNAME:Théâtre de l’Arlequin
X-ORIGINAL-URL:https://theatrearlequin.morsang.net
X-WR-CALDESC:évènements pour Théâtre de l’Arlequin
BEGIN:VTIMEZONE
TZID:Europe/Paris
BEGIN:DAYLIGHT
TZOFFSETFROM:+0100
TZOFFSETTO:+0200
TZNAME:CEST
DTSTART:20240331T010000
END:DAYLIGHT
BEGIN:STANDARD
TZOFFSETFROM:+0200
TZOFFSETTO:+0100
TZNAME:CET
DTSTART:20241027T010000
END:STANDARD
END:VTIMEZONE
BEGIN:VEVENT
DTSTART;TZID=Europe/Paris:20240303T170000
DTEND;TZID=Europe/Paris:20240303T170000
DTSTAMP:20260423T072507
CREATED:20231206T111948Z
LAST-MODIFIED:20240227T142804Z
UID:24531-1709485200-1709485200@theatrearlequin.morsang.net
SUMMARY:LA CHIENLIT - FEU Mme SINGER (théâtre)
DESCRIPTION:dimanche 3 mars à 17h \nLa Chientlit – partie 2 \nFeu Mme Singer \ncompagnieLe grand colossal théâtre \nTexte et mise en scène : Alexandre Markoff \nAvec : Diane Bonnot\, Ivan Cori\, Sébastien Delpy\, Nicolas Dimambro\, Pauline Jambet\, Jeanne Rochette\, Sylvain Tempier et Aline Vaudan \nCostumes : Magali Castellan \nCollaboration artistique : Patrice Cuvelier \nBeaucoup ont aimé le premier volet – Pour un fascisme ludique et sans complexe. Voilà qu’arrive le deuxième volet de la série théâtrale La Chienlit qui raconte le sort des habitants d’une résidence. Ils affrontent des problèmes de ramassage d’ordures. Ils se constituent en une association de riverains et combattent la cité voisine qu’ils soupçonnent d’aggraver leur situation. Paul Poupon se trouve par mégarde à la tête de ce mouvement\, toujours partagé entre indifférence\, indécision et dépression. Du théâtre entre David Lynch et Intervilles ! \nExtraits de presse EPISODE 1 \nTELERAMA – TTTT: Les huit truculents comédiens se surpassent dans cette désopilante galerie de portraits\, qui offre un éclairage effrayant sur les petits travers d’une classe moyenne engoncée dans un idéalisme bourgeois\, jusqu’à l’irrémédiable chute. Du théâtre entre David Lynch et Intervilles. \nLE JOURNAL DE SAONE ET LOIRE : On rit beaucoup de ces dialogues absurdes ciselés avec brio qui nous emmènent gaiement sur le chemin du burlesque. […] on pense surtout à Becket […] et aussi à Lagarce avec ce langage qui ne sert\, finalement\, qu’à combler le vide existentiel des personnages et à souligner l’incommunicabilité qui les caractérise. \nLA MONTAGNE : Le jeu est juste\, le propos universel. Le Grand Colossal invite à changer le paradigme de la politique […] Les rires du public ne cessent jamais : le jeu est délectable\, les personnages sont follement incarnés. \nLA NOUVELLE REPUBLIQUE : S’entremêlent voisins envahissants\, mouette kamikaze\, maire qui maîtrise davantage la langue de bois que la gestion de sa ville et les bas sentiments de personnages aussi excentriques les uns que les autres. Une pièce désopilante et culottée \nComédie tout public à partir de 10 ans \nDurée 1h15 \n 
URL:https://theatrearlequin.morsang.net/event/la-chienlit-feu-mme-singer-theatre/
CATEGORIES:janvier – mai,septembre – décembre,Théâtre
ATTACH;FMTTYPE=image/png:https://theatrearlequin.morsang.net/wp-content/uploads/2022/12/complet.png
END:VEVENT
END:VCALENDAR