BEGIN:VCALENDAR
VERSION:2.0
PRODID:-//Théâtre de l’Arlequin - ECPv5.6.0//NONSGML v1.0//EN
CALSCALE:GREGORIAN
METHOD:PUBLISH
X-WR-CALNAME:Théâtre de l’Arlequin
X-ORIGINAL-URL:https://theatrearlequin.morsang.net
X-WR-CALDESC:évènements pour Théâtre de l’Arlequin
BEGIN:VTIMEZONE
TZID:Europe/Paris
BEGIN:DAYLIGHT
TZOFFSETFROM:+0100
TZOFFSETTO:+0200
TZNAME:CEST
DTSTART:20230326T010000
END:DAYLIGHT
BEGIN:STANDARD
TZOFFSETFROM:+0200
TZOFFSETTO:+0100
TZNAME:CET
DTSTART:20231029T010000
END:STANDARD
END:VTIMEZONE
BEGIN:VEVENT
DTSTART;TZID=Europe/Paris:20230212T170000
DTEND;TZID=Europe/Paris:20230212T170000
DTSTAMP:20260424T051852
CREATED:20221203T082719Z
LAST-MODIFIED:20230209T072422Z
UID:22446-1676221200-1676221200@theatrearlequin.morsang.net
SUMMARY:LA TRAVIATA (opéra de poche)
DESCRIPTION:Samedi 11 février à 20h30 – Dimanche 12 février à 17h \nLa Traviata\nde Giuseppe Verdi \nOpéra de poche \nCompagnie OperaÈMobile – Mise en scène : Mathilde Bost – Pianiste : Quentin Lafarge – Avec : Marie Cordier (soprano)\, Léo Muscat (ténor)\, Fabien Galvier (baryton) \nAlfredo Germont\, jeune homme de bonne famille\, tombe amoureux d’une courtisane en vogue\, Violetta Valéry.  Belle\, séductrice\, mais aussi généreuse et passionnée\, Violetta abandonne sa vie de femme dévoyée (Traviata) pour vivre pleinement son histoire d’amour avec Alfredo.  Mais les obstacles sont nombreux pour ceux qui veulent changer de vie et de classe sociale.  La colère de la bourgeoisie : le père d’Alfredo n’accepte pas ce concubinage scandaleux.  La maladie : Violetta est atteinte de tuberculose\, ses jours sont comptés.  Et la mort : comme ultime solution et rédemption. \nSans trahir la musique de Verdi et le livret de Francesco Maria Piave\, Opéra E Mobile adapte « La Traviata » pour 3 chanteurs (1 soprano\, 1 ténor\, 1 baryton) et un pianiste. \nLes textes français qui expliquent l’histoire sont tirés de « La Dame aux Camélias » d’Alexandre Dumas fils\, du livret traduit et d’une écriture collective au plateau.  OperaÈMobile invite le public à vivre le spectacle de l’intérieur\, tout près des artistes lyriques. La mise en scène se veut quasiment invisible\, réinventée à chaque représentation pour s’adapter à chaque lieu. Chanter devant un château\, au milieu d’une cité\, sur une scène de banlieue ou sur une place publique : partout l’opéra doit être à sa place. Un travail qui entre à merveille dans notre grand théâtre de petite taille\, comme l’expérience l’a déjà montré. \n \nCe que nous en dit la metteuse en scène \n“La Traviata” est l’opéra des oppositions et des conflits\, qu’ils soient sociaux\, moraux\, mais également dans les humeurs passant du rire aux larmes\, de la foule à la solitude. Ces contrastes sont intégrés dans le spectacle\, même s’il ne comporte que trois chanteurs\, car ils sont l’ADN de cet opéra : ils lui donnent son rythme et sa dramaturgie si particuliers. Dans notre spectacle\, les spectateurs revêtent le rôle d’invités de Violetta et trinquent avec elle au son du “Libiamo”. Mais ils sont également au cœur de la création\, enveloppés dans l’univers sonore. \nA défaut de récitatifs (nos chanteurs n’interprètent que les airs)\, ils sont remplacés par des moments joués où notre directeur musical\, Quentin Lafarge\, prix de composition du Conservatoire National Supérieur de Musique\, a travaillé avec un sound designer spécialisé en immersion auditive au cinéma. Ce travail met en valeur l’opposition entre la pureté vocale d’un air évoquant la solitude\, et l’effervescence d’un monde bouillonnant et contrasté. \nMonter “La Traviata” c’est aussi tomber sous le charme d’une série de véritables tubes\, des airs lyriques d’une rare beauté où les voix sont poussées très loin dans leur technicité par Verdi. Ne dit-on pas que le rôle de Violetta est une véritable prouesse pour l’interprète et que trouver son interprète est rare ? \nMathilde Bost \n\nOperaÈMobile : PROPOSER LES JOIES DE L’OPERA AU PLUS GRAND NOMBRE\n\nLes accessoires et le décor sont réduits au minimum. Avant tout nous cherchons à utiliser dans nos spectacles la personnalité des lieux qui nous accueillent et leurs potentialités\nEt avec notre époque Nous questionnons chaque opéra pour lui donner une approche plus contemporaine\, en quoi le message qu’elle véhicule nous parle aujourd’hui\nAvec OperaÈMobile l’opéra fait corps avec l’espace de jeu et donne une place différente à la musique lyrique plus proche de son public\, plus improvisée et plus partagée\n\n 
URL:https://theatrearlequin.morsang.net/event/la-traviata-opera-de-poche-2/
CATEGORIES:janvier – mai,Musique classique,Opéra
ATTACH;FMTTYPE=image/png:https://theatrearlequin.morsang.net/wp-content/uploads/2022/12/complet.png
END:VEVENT
END:VCALENDAR