BEGIN:VCALENDAR
VERSION:2.0
PRODID:-//Théâtre de l’Arlequin - ECPv5.6.0//NONSGML v1.0//EN
CALSCALE:GREGORIAN
METHOD:PUBLISH
X-WR-CALNAME:Théâtre de l’Arlequin
X-ORIGINAL-URL:https://theatrearlequin.morsang.net
X-WR-CALDESC:évènements pour Théâtre de l’Arlequin
BEGIN:VTIMEZONE
TZID:Europe/Paris
BEGIN:DAYLIGHT
TZOFFSETFROM:+0100
TZOFFSETTO:+0200
TZNAME:CEST
DTSTART:20240331T010000
END:DAYLIGHT
BEGIN:STANDARD
TZOFFSETFROM:+0200
TZOFFSETTO:+0100
TZNAME:CET
DTSTART:20241027T010000
END:STANDARD
END:VTIMEZONE
BEGIN:VEVENT
DTSTART;TZID=Europe/Paris:20240530T200000
DTEND;TZID=Europe/Paris:20240530T200000
DTSTAMP:20260423T180725
CREATED:20240511T060031Z
LAST-MODIFIED:20240511T060353Z
UID:26219-1717099200-1717099200@theatrearlequin.morsang.net
SUMMARY:LE PORTEUR D'HISTOIRE
DESCRIPTION:jeudi 30 mai à 20h / FESTIVAL MADE IN COEUR D’ESSONNE \nL’Epi d’Orge  \nLE PORTEUR D’HISTOIRE\, d’Alexis Michalik\nPar une nuit pluvieuse\, au fin fond des Ardennes\, Martin Martin doit enterrer son père. Il est alors loin d’imaginer que la découverte d’un carnet manuscrit va l’entraîner dans une quête à travers l’Histoire et les continents. Quinze ans plus tard\, au cœur du désert algérien\, une mère et sa fille disparaissent mystérieusement… \nMise en scène Brice Astier-Billy. Comédiens : Nadia Bouhabila\, Audrey Brandenberger\, Gwenola De Montigny\, Apolline Dhollande\,  Caroline Dralet\, Patrick Ferret\, Solina Gallo-Bona\, Jessica Iotti\, Éric Julienne\, Morgane Ragot\, Stéphanie Ramos\, Dominique Rougerie et Florence Trintignac.
URL:https://theatrearlequin.morsang.net/event/le-porteur-dhistoire/
CATEGORIES:janvier – mai,Juin - Août,Made in Cœur d’Essonne,pratiques amateurs
ATTACH;FMTTYPE=image/jpeg:https://theatrearlequin.morsang.net/wp-content/uploads/2024/05/05-30-Epi-Porteur-dhisto.jpeg
END:VEVENT
END:VCALENDAR