BEGIN:VCALENDAR
VERSION:2.0
PRODID:-//Théâtre de l’Arlequin - ECPv5.6.0//NONSGML v1.0//EN
CALSCALE:GREGORIAN
METHOD:PUBLISH
X-WR-CALNAME:Théâtre de l’Arlequin
X-ORIGINAL-URL:https://theatrearlequin.morsang.net
X-WR-CALDESC:évènements pour Théâtre de l’Arlequin
BEGIN:VTIMEZONE
TZID:Europe/Paris
BEGIN:DAYLIGHT
TZOFFSETFROM:+0100
TZOFFSETTO:+0200
TZNAME:CEST
DTSTART:20230326T010000
END:DAYLIGHT
BEGIN:STANDARD
TZOFFSETFROM:+0200
TZOFFSETTO:+0100
TZNAME:CET
DTSTART:20231029T010000
END:STANDARD
END:VTIMEZONE
BEGIN:VEVENT
DTSTART;TZID=Europe/Paris:20230609T200000
DTEND;TZID=Europe/Paris:20230609T200000
DTSTAMP:20260423T231848
CREATED:20230527T145314Z
LAST-MODIFIED:20230527T145314Z
UID:23593-1686340800-1686340800@theatrearlequin.morsang.net
SUMMARY:Le vent des peupliers
DESCRIPTION:Vendredi 9 juin à 20h\nAssociation Les Dodus Dindons\nLe vent des peupliers \nde Gérald SIBLEYRAS \nAvec : Norbert Brunet\, Philippe Escudié\, Philippe Toutain \nDescriptif : 1959\, trois anciens combattants de la Grande Guerre échafaudent un plan pour s’évader de leur hospice\, mais les obstacles sont nombreux et nos trois compères ne sont pas au meilleur de leur forme. Une bourrasque de rires portée par des personnages forts\, imprégnés d’humanité.
URL:https://theatrearlequin.morsang.net/event/le-vent-des-peupliers/
CATEGORIES:Juin - Août,Made in Cœur d’Essonne,pratiques amateurs,Théâtre
ATTACH;FMTTYPE=image/png:https://theatrearlequin.morsang.net/wp-content/uploads/2023/05/8E7A4216-C11E-4DE0-A5AD-4D3167C74273.png
END:VEVENT
END:VCALENDAR