BEGIN:VCALENDAR
VERSION:2.0
PRODID:-//Théâtre de l’Arlequin - ECPv5.6.0//NONSGML v1.0//EN
CALSCALE:GREGORIAN
METHOD:PUBLISH
X-WR-CALNAME:Théâtre de l’Arlequin
X-ORIGINAL-URL:https://theatrearlequin.morsang.net
X-WR-CALDESC:évènements pour Théâtre de l’Arlequin
BEGIN:VTIMEZONE
TZID:Europe/Paris
BEGIN:DAYLIGHT
TZOFFSETFROM:+0100
TZOFFSETTO:+0200
TZNAME:CEST
DTSTART:20230326T010000
END:DAYLIGHT
BEGIN:STANDARD
TZOFFSETFROM:+0200
TZOFFSETTO:+0100
TZNAME:CET
DTSTART:20231029T010000
END:STANDARD
END:VTIMEZONE
BEGIN:VEVENT
DTSTART;TZID=Europe/Paris:20230624T180000
DTEND;TZID=Europe/Paris:20230624T180000
DTSTAMP:20260423T155340
CREATED:20230528T094452Z
LAST-MODIFIED:20230529T000337Z
UID:23670-1687629600-1687629600@theatrearlequin.morsang.net
SUMMARY:Lulla Music fait son show !
DESCRIPTION:Samedi 24 juin à 18h\nAssociation Lulla Music\nLULLA MUSIC FAIT SON SHOW\nDirection : Caroline Chivé \nAvec : Les participants des ateliers chants vous livreront des interprétations personnelles et originales de titres du répertoire. Quant à la chorale Echo Pop\, elle vous proposera des adaptations polyphoniques de tubes pop-rock. \nVenez redécouvrir des chansons incontournables ! \n 
URL:https://theatrearlequin.morsang.net/event/lulla-music-fait-son-show-2/
CATEGORIES:Juin - Août,Made in Cœur d’Essonne,Musique,pratiques amateurs
ATTACH;FMTTYPE=image/jpeg:https://theatrearlequin.morsang.net/wp-content/uploads/2023/05/C2A53FCF-4E54-49D2-9D53-D880E172A146_4_5005_c.jpeg
END:VEVENT
END:VCALENDAR