BEGIN:VCALENDAR
VERSION:2.0
PRODID:-//Théâtre de l’Arlequin - ECPv5.6.0//NONSGML v1.0//EN
CALSCALE:GREGORIAN
METHOD:PUBLISH
X-WR-CALNAME:Théâtre de l’Arlequin
X-ORIGINAL-URL:https://theatrearlequin.morsang.net
X-WR-CALDESC:évènements pour Théâtre de l’Arlequin
BEGIN:VTIMEZONE
TZID:Europe/Paris
BEGIN:DAYLIGHT
TZOFFSETFROM:+0100
TZOFFSETTO:+0200
TZNAME:CEST
DTSTART:20240331T010000
END:DAYLIGHT
BEGIN:STANDARD
TZOFFSETFROM:+0200
TZOFFSETTO:+0100
TZNAME:CET
DTSTART:20241027T010000
END:STANDARD
END:VTIMEZONE
BEGIN:VEVENT
DTSTART;TZID=Europe/Paris:20240615T180000
DTEND;TZID=Europe/Paris:20240615T180000
DTSTAMP:20260423T014715
CREATED:20240511T072023Z
LAST-MODIFIED:20240511T073444Z
UID:26275-1718474400-1718474400@theatrearlequin.morsang.net
SUMMARY:LULLA MUSIQUE
DESCRIPTION:samedi 15 juin à 18h / FESTIVAL MADE IN COEUR D’ESSONNE \nAssociation Lulla Musique \nLULLA MUSIQUE (concert pop-rock)\nPrésentation du travail de la saison 2023-2024 par les chanteurs solistes des ateliers de technique vocale ainsi que par la chorale Echo Pop. \nLes chanteurs solistes présentent leur propre interprétation d’une chanson de leur choix travaillée au cours de l’année. \nLa chorale interprète sous forme polyphonique et a capella des standards pop-rock. \nDirection : Caroline Chivé
URL:https://theatrearlequin.morsang.net/event/lulla-musique/
CATEGORIES:janvier – mai,Juin - Août,Made in Cœur d’Essonne,pratiques amateurs
ATTACH;FMTTYPE=image/jpeg:https://theatrearlequin.morsang.net/wp-content/uploads/2024/05/06-15-chorale-3-Photoroom-NOIR-3.jpg
END:VEVENT
END:VCALENDAR