BEGIN:VCALENDAR
VERSION:2.0
PRODID:-//Théâtre de l’Arlequin - ECPv5.6.0//NONSGML v1.0//EN
CALSCALE:GREGORIAN
METHOD:PUBLISH
X-WR-CALNAME:Théâtre de l’Arlequin
X-ORIGINAL-URL:https://theatrearlequin.morsang.net
X-WR-CALDESC:évènements pour Théâtre de l’Arlequin
BEGIN:VTIMEZONE
TZID:Europe/Paris
BEGIN:DAYLIGHT
TZOFFSETFROM:+0100
TZOFFSETTO:+0200
TZNAME:CEST
DTSTART:20210328T010000
END:DAYLIGHT
BEGIN:STANDARD
TZOFFSETFROM:+0200
TZOFFSETTO:+0100
TZNAME:CET
DTSTART:20211031T010000
END:STANDARD
END:VTIMEZONE
BEGIN:VEVENT
DTSTART;TZID=Europe/Paris:20210715T170000
DTEND;TZID=Europe/Paris:20210715T203000
DTSTAMP:20260425T212623
CREATED:20200919T191309Z
LAST-MODIFIED:20210726T093301Z
UID:18402-1626368400-1626381000@theatrearlequin.morsang.net
SUMMARY:Martin Eden (adaptation théâtrale)
DESCRIPTION:Dimandhe 24 octobre 2021 à 17\nMartin Eden\nde Jack London (adaptation théâtrale) \nCompagnie Les âmes libres \nMise en scène & création lumières : Richard Arselin - avec Franck Etenna\, Luca Lomazzi\, Véronique Boutonnet\, Olivier Deville  \nMusique : Franck Etenna – Costumes : Les Vertugadins  \n  \n \nMartin Eden est marin\, il est issu des quartiers pauvres\, il a peu fréquenté les bancs de l’école\, il a vingt ans\, il dévore la vie\, les femmes\, l’alcool\, les voyages\, il se bat facilement\, il a le poing dur et la violence rapide. C’est un solitaire\, un sauvage\, il n’a pas les mots. Une rencontre fait tout basculer. Un soir il sauve d’une rixe un jeune bourgeois. Ce dernier l’invite chez lui. Le jeune marin brut\, maladroit\, sans éducation\, fait la connaissance de sa famille\, et particulièrement de la jeune fille\, Ruth\, douce\, belle\, solaire\, intelligente\, environnée de livres\, de tableaux\, de poésies. Pour conquérir cette jeune femme dont il est devenu fou amoureux\, il décide de devenir un écrivain. Il ira au bout de cette folie. Il deviendra un écrivain célèbre. Trop tard. On ne sort pas indemne de son milieu. La claque sera d’une violence inouïe. \nMettre sa peau sur la table\nJe joue\, je crée\, je fabrique des spectacles\, parce que je ne peux pas faire autrement\, parce que c’est en moi\, c’est mon endroit\, et que si je ne le fais pas\, et quand je ne le fais pas\, je me meurs à l’intérieur. Je me vide. Et puis je me mets à lire quelques autres London\, et des livres sur sa vie\, une vie d’une intensité folle\, faite d’aventure\, de bagarre\, d’alcool\, et puis je vois des tas d’images qu’il a prises en reportage\, et enfin je découvre qu’il est parti en 1907 au bout du monde\, pour réaliser un rêve qui n’aboutira pas : faire le tour du monde en voilier\, avec sa femme\, sa camarade. C’est au cours de ce voyage qu’il a écrit ce livre\, ce Martin Eden\, qui ne me lâche plus. Alors voilà ce qui m’intéresse. Non pas juste raconter et adapter Martin Eden\, mais raconter ce voyage-là\, voyage intime dans la création\, voyage dans les mers du Sud\, dans les îles du Pacifique\, voyage au pays d’un écrivain qui « met sa peau sur la table ». \nVéronique Boutonnet \nSoutiens : Département des Deux-Sèvres – ville de Parthenay – ville de Coulonges-sur-l’Autize – association Ah – Théâtre de l’Esquif – Komidi festival – La Factory/Théâtre de l’Oulle \n\nRéservations recommandées\nEn raison des règles sanitaire\, la jauge de l'Arlequin peut être réduite\, il est donc prudent de réserver. Les billets sont achetés sur place au tarif de 2€\, 5€ ou 10 € au choix du spectateur\, 1€ pour les moins de 12 ans. Le placement est libre. Les places réservées doivent être retirées 10 mn avant le spectacle. Ensuite\, elles peuvent être remises à la disposition du public. \nPOUR RESERVER\, CLIQUER SUR L’ESPACE BLANC AU DESSOUS DE CE TEXTE \nJe réserve\n\n\n 
URL:https://theatrearlequin.morsang.net/event/martin-eden-theatre/
CATEGORIES:septembre – décembre,Théâtre
ATTACH;FMTTYPE=image/jpeg:https://theatrearlequin.morsang.net/wp-content/uploads/2020/09/meden-parth-luca-lomazzi-2000-1574599312829-7a22113764a34dbbab9524c465cbd7f1-1.jpg
END:VEVENT
END:VCALENDAR