BEGIN:VCALENDAR
VERSION:2.0
PRODID:-//Théâtre de l’Arlequin - ECPv5.6.0//NONSGML v1.0//EN
CALSCALE:GREGORIAN
METHOD:PUBLISH
X-WR-CALNAME:Théâtre de l’Arlequin
X-ORIGINAL-URL:https://theatrearlequin.morsang.net
X-WR-CALDESC:évènements pour Théâtre de l’Arlequin
BEGIN:VTIMEZONE
TZID:Europe/Paris
BEGIN:DAYLIGHT
TZOFFSETFROM:+0100
TZOFFSETTO:+0200
TZNAME:CEST
DTSTART:20230326T010000
END:DAYLIGHT
BEGIN:STANDARD
TZOFFSETFROM:+0200
TZOFFSETTO:+0100
TZNAME:CET
DTSTART:20231029T010000
END:STANDARD
END:VTIMEZONE
BEGIN:VEVENT
DTSTART;TZID=Europe/Paris:20230623T200000
DTEND;TZID=Europe/Paris:20230623T200000
DTSTAMP:20260423T171357
CREATED:20230528T094041Z
LAST-MODIFIED:20230530T131926Z
UID:23666-1687550400-1687550400@theatrearlequin.morsang.net
SUMMARY:Pas de bol\, c'est Carole !
DESCRIPTION:Vendredi 23 juin à 20h\nAssociation Les Saltimbanques 2000\nPAS DE BOL\, C’EST CAROLE\nde Guy Deffontis \nAvec : M. Pellicer\, C. Dumas\, H. Léonetti\, E. Nayac\, R. Caamano\, Marie Tinet\, Armel Pastol\, G. Deffontis \nDescriptif : Des amis de longue date se retrouvent par une belle soirée d’été autour d’un repas. Comme souvent\, tout se déroule à merveille jusqu’au moment où l’un d’entre eux propose un jeu. Action ou vérité\, cap ou pas cap ? Pire : le jeu du téléphone…
URL:https://theatrearlequin.morsang.net/event/pas-de-bol-cest-carole/
CATEGORIES:Juin - Août,Made in Cœur d’Essonne,pratiques amateurs,Théâtre
ATTACH;FMTTYPE=image/png:https://theatrearlequin.morsang.net/wp-content/uploads/2023/05/2450B188-0C48-47FB-AAE8-2AC193ECAC36.png
END:VEVENT
END:VCALENDAR