BEGIN:VCALENDAR
VERSION:2.0
PRODID:-//Théâtre de l’Arlequin - ECPv5.6.0//NONSGML v1.0//EN
CALSCALE:GREGORIAN
METHOD:PUBLISH
X-WR-CALNAME:Théâtre de l’Arlequin
X-ORIGINAL-URL:https://theatrearlequin.morsang.net
X-WR-CALDESC:évènements pour Théâtre de l’Arlequin
BEGIN:VTIMEZONE
TZID:Europe/Paris
BEGIN:DAYLIGHT
TZOFFSETFROM:+0100
TZOFFSETTO:+0200
TZNAME:CEST
DTSTART:20220327T010000
END:DAYLIGHT
BEGIN:STANDARD
TZOFFSETFROM:+0200
TZOFFSETTO:+0100
TZNAME:CET
DTSTART:20221030T010000
END:STANDARD
END:VTIMEZONE
BEGIN:VEVENT
DTSTART;TZID=Europe/Paris:20220617T200000
DTEND;TZID=Europe/Paris:20220617T200000
DTSTAMP:20260424T093901
CREATED:20220518T161445Z
LAST-MODIFIED:20220518T161445Z
UID:21300-1655496000-1655496000@theatrearlequin.morsang.net
SUMMARY:PIÈGE À CONS (théâtre)
DESCRIPTION:Vendredi 17 juin à 20h\nAssociation Saltimbanques 2000 \n  PIÈGE À CONS de Jean-Pierre Martinez\nÀ l’approche de la présidentielle\, un parti en perdition désigne pour le représenter\, un con de service\, tout en promouvant\, en secret\, un candidat hors parti à qui se rallier après sa victoire. Mais le con s’avère imprévisible… et les électeurs aussi.\nMise en scène : Monica Facoltoso\nAvec : Georges Bahloul\, Delphine Krzak\, Karine Leroux\, Eric Nayac\, Sophie Nayac\, Christian Raimond \nTout public\, durée 1h15 \nDans le cadre des rencontres Made in Coeur d’Essonne\nCe festival dédié aux aux groupes et compagnies amateur qui depuis longtemps nous font l’amitié de s’associer\, au fil des saisons\, à la vie du théâtre de l’Arlequin\n\nDes compagnies de toute l’agglomération du Cœur d’Essonne. Du théâtre\, de la musique. De la passion et de l’audace.\nMade in Coeur d’Essonne vous présente 15 spectacles en 4 semaines.\nAu théâtre de l’Arlequin\, 35 rue Jean Raynal\, 91390 Morsang sur Orge\nRéservation 01.69.25.49.15 ou sur le site https://theatrearlequin.morsang.net\nEt toujours les tarifs habituels de 2€\, 5€\, 10€ au choix\, 1€ enfants de moins de 12 ans\, mais cette fois\, la recette va intégralement à la compagnie qui joue. \nTOUT LE PROGRAMME DU FESTIVAL SOUS CE LIEN
URL:https://theatrearlequin.morsang.net/event/piege-a-cons-theatre/
CATEGORIES:Juin - Août,Made in Cœur d’Essonne,pratiques amateurs,Théâtre
ATTACH;FMTTYPE=image/jpeg:https://theatrearlequin.morsang.net/wp-content/uploads/2022/05/download-5.jpg
END:VEVENT
END:VCALENDAR