BEGIN:VCALENDAR
VERSION:2.0
PRODID:-//Théâtre de l’Arlequin - ECPv5.6.0//NONSGML v1.0//EN
CALSCALE:GREGORIAN
METHOD:PUBLISH
X-WR-CALNAME:Théâtre de l’Arlequin
X-ORIGINAL-URL:https://theatrearlequin.morsang.net
X-WR-CALDESC:évènements pour Théâtre de l’Arlequin
BEGIN:VTIMEZONE
TZID:Europe/Paris
BEGIN:DAYLIGHT
TZOFFSETFROM:+0100
TZOFFSETTO:+0200
TZNAME:CEST
DTSTART:20230326T010000
END:DAYLIGHT
BEGIN:STANDARD
TZOFFSETFROM:+0200
TZOFFSETTO:+0100
TZNAME:CET
DTSTART:20231029T010000
END:STANDARD
END:VTIMEZONE
BEGIN:VEVENT
DTSTART;TZID=Europe/Paris:20231011T150000
DTEND;TZID=Europe/Paris:20231011T160000
DTSTAMP:20260423T114430
CREATED:20230813T160546Z
LAST-MODIFIED:20231002T150833Z
UID:23965-1697036400-1697040000@theatrearlequin.morsang.net
SUMMARY:RICHARD III (Shakespeare en théâtre de clown)
DESCRIPTION:mercredi 11 octobre à 15h \nRichard III\nde Shakespeare \n Une mise en scène de Maria Zachenska\, co-directrice du théâtre de l’Arlequin (sur la photo) – Avec les clowns Francis et Carpatte (Louis-Jean Corti et Maria Zachenska) – Direction d’acteurs et création lumière : Pierre Cornouaille – Décors et costumes : Georges Vafias \n  \nUne version cocasse et pourtant fidèle à la célèbre tragédie de Shakespeare. Les clowns donnent une légèreté et une autre ampleur à l’intrigue et à ses enjeux\, le drame gagne en clarté et en force comique. C’est aussi l’occasion de montrer une pièce classique aux plus jeunes spectateurs. \nTout public à partir de 8 ans \nDurée : 1 heure \n 
URL:https://theatrearlequin.morsang.net/event/richard-iii-shakespeare-en-theatre-de-clown/
CATEGORIES:Jeune public,septembre – décembre,Théâtre de clown
ATTACH;FMTTYPE=image/jpeg:https://theatrearlequin.morsang.net/wp-content/uploads/2022/12/1000_F_70552464_JCNtZEXbRravh83nS2ukjl82qZdMKFsT.jpg
END:VEVENT
END:VCALENDAR