BEGIN:VCALENDAR
VERSION:2.0
PRODID:-//Théâtre de l’Arlequin - ECPv5.6.0//NONSGML v1.0//EN
CALSCALE:GREGORIAN
METHOD:PUBLISH
X-WR-CALNAME:Théâtre de l’Arlequin
X-ORIGINAL-URL:https://theatrearlequin.morsang.net
X-WR-CALDESC:évènements pour Théâtre de l’Arlequin
BEGIN:VTIMEZONE
TZID:Europe/Helsinki
BEGIN:DAYLIGHT
TZOFFSETFROM:+0200
TZOFFSETTO:+0300
TZNAME:EEST
DTSTART:20210328T010000
END:DAYLIGHT
BEGIN:STANDARD
TZOFFSETFROM:+0300
TZOFFSETTO:+0200
TZNAME:EET
DTSTART:20211031T010000
END:STANDARD
END:VTIMEZONE
BEGIN:VEVENT
DTSTART;TZID=Europe/Helsinki:20210919T170000
DTEND;TZID=Europe/Helsinki:20210919T170000
DTSTAMP:20260425T182223
CREATED:20191106T083531Z
LAST-MODIFIED:20210522T133031Z
UID:17845-1632070800-1632070800@theatrearlequin.morsang.net
SUMMARY:Saxifrages (théâtre)
DESCRIPTION:Dimanche 19 septembre 2021 à 17h  \nThéâtre tout public\, à partir de 10 ans \nSaxifrages. De Rafaëlle Jolivet. Compagnie Nagananda. Mise en scène Cécile Fraisse-Bareille. Scénographie Emilie Roy. Son Bruno Fleutelot. Lumière Pierre Daubigny. Costumes Sonia Bosc. Collaboration artistique Marianne Pichon \nAvec : Marion Bottollier\, David Gouhier\, Séphora Haymann\, Maud Le Grévellec et Diane Regneault \nCoproduction. – Espace culturel Boris Vian – Les Ulis \n \n\nRéservations recommandées\nNotre théâtre ne compte que 84 places avec un jauge qui peut être réduite pour raisons sanitaires\, il est donc prudent de réserver. Les billets sont achetés sur place au tarif de 2€\, 5€ ou 10 € au choix du spectateur\, 1€ pour les moins de 12 ans. Le placement est libre. Les places réservées doivent être retirées 10 mn avant le spectacle. Ensuite\, elles peuvent être remises à la disposition du public. Pour réserver\, téléphonez au 01 69 25 49 15 ou cliquer dans l'espace vide sous la flèche. \n \nJe réserve\n\n\nComment vit-on quand on a vingt ans dans un monde dont on ne connaît ni les codes\, ni les lois implicites ni la violence ?\nMargaux a grandi dans un idéalisme du partage et se retrouve projetée en classe prépa\, confrontée à la dure réalité de la sélection. Mais où sont passés ses amis d’enfance ? La communauté a éclaté quand sa mère a fait une tentative de suicide ; avec Capucine\, sa sœur\, elles ont dû quitter les autres : Camille\, Lola et Mickaël… pour retrouver leur père sur les plateaux du Larzac. Tout a changé pendant ces dix années. Que sont devenus les amis d’enfance et leur rêve commun ? Un bonheur est-il encore possible ? \nEn juin 2002\, les enfants de l’ancienne communauté sont des adultes engagés dans leur vie. La mort de Charles\, le père de Mickaël\, fait tout basculer : réunis à l’intérieur de la maison\, ils vont se questionner sur le pacte de cette enfance scellé dans la « cabane du théâtre ». Réinventer leur utopie\, une communauté élargie qui transformerait notre société. La remontée de l’enfance en eux\, comme force qui les relie\, est le fer de lance de ce projet collectif. \nChoralité entre les voix de l’intime et celles du collectif\nSaxifrages est une création théâtrale qui reprend trois textes de l’autrice Rafaëlle Jolivet – Les Herbes folles\, Saxifrages et Rhizomes – pour tisser une dramaturgie qui\, partant du présent\, fait remonter à la surface un jeu de rétrospections en miroir : choralité entre les voix de l’intime et celles du collectif\, choralité entre les voix du présent et celles du passé. A travers cinq personnages qui ont dix ans dans Les Herbes folles\, vingt ans dans Saxifrages\, et la trentaine dans Rhizomes\, l’écriture explore et questionne l’idée de « communauté » et de collectif dans une société individualiste et libérale. \nESSONNE CREATIVE\nSaxifrages est une création essonnienne\, co-produite par l’espace Boris Vian des Ulis. Le spectacle a été présenté lors d’une session de Attention travaux\, initiative départementale qui visse à faire connaitre les créations essonniennes en cours de production. Belle alliance entre l’inspiration créatrice et le service public.
URL:https://theatrearlequin.morsang.net/event/saxifrages/
CATEGORIES:septembre – décembre,Théâtre
ATTACH;FMTTYPE=image/jpeg:https://theatrearlequin.morsang.net/wp-content/uploads/2019/11/Saxifrages-4-marianne-Pichon-2-scaled.jpg
END:VEVENT
END:VCALENDAR