BEGIN:VCALENDAR
VERSION:2.0
PRODID:-//Théâtre de l’Arlequin - ECPv5.6.0//NONSGML v1.0//EN
CALSCALE:GREGORIAN
METHOD:PUBLISH
X-WR-CALNAME:Théâtre de l’Arlequin
X-ORIGINAL-URL:https://theatrearlequin.morsang.net
X-WR-CALDESC:évènements pour Théâtre de l’Arlequin
BEGIN:VTIMEZONE
TZID:Europe/Paris
BEGIN:DAYLIGHT
TZOFFSETFROM:+0100
TZOFFSETTO:+0200
TZNAME:CEST
DTSTART:20230326T010000
END:DAYLIGHT
BEGIN:STANDARD
TZOFFSETFROM:+0200
TZOFFSETTO:+0100
TZNAME:CET
DTSTART:20231029T010000
END:STANDARD
END:VTIMEZONE
BEGIN:VEVENT
DTSTART;TZID=Europe/Paris:20230618T160000
DTEND;TZID=Europe/Paris:20230618T170000
DTSTAMP:20260423T171152
CREATED:20230528T092506Z
LAST-MODIFIED:20230529T000319Z
UID:23655-1687104000-1687107600@theatrearlequin.morsang.net
SUMMARY:Un peu de poésie dans ce monde de brutes
DESCRIPTION:Dimanche 18 juin à 16h\nAssociation Toujours Les Mêmes\nUN PEU DE POÉSIE DANS CE MONDE DE BRUTES\nde Gabriel Levasseur\, Philippe Gautier. Marisa Simon (pour Etranges Etrangers)\, Claude Astier (pour Délicaca) \nDescriptif : Ce groupe vocal poétique et insolent présente un voyage musical au fil de chansons loufoques et pertinentes. Doucement fêlé\, il cultive humour et joie de vivre sans jamais fermer les yeux sur les absurdités et les faiblesses du monde. \nPétillante énergie\, qualité vocale polyphonique et mises en scène sont au service d’un spectacle déjanté.
URL:https://theatrearlequin.morsang.net/event/un-peu-de-poesie-dans-ce-monde-de-brutes/
CATEGORIES:Juin - Août,Made in Cœur d’Essonne,pratiques amateurs
ATTACH;FMTTYPE=image/png:https://theatrearlequin.morsang.net/wp-content/uploads/2023/05/E83C0F76-9EC3-4C2C-AB6D-F674A1555F44.png
END:VEVENT
END:VCALENDAR