BEGIN:VCALENDAR
VERSION:2.0
PRODID:-//Théâtre de l’Arlequin - ECPv5.6.0//NONSGML v1.0//EN
CALSCALE:GREGORIAN
METHOD:PUBLISH
X-WR-CALNAME:Théâtre de l’Arlequin
X-ORIGINAL-URL:https://theatrearlequin.morsang.net
X-WR-CALDESC:évènements pour Théâtre de l’Arlequin
BEGIN:VTIMEZONE
TZID:Europe/Paris
BEGIN:DAYLIGHT
TZOFFSETFROM:+0100
TZOFFSETTO:+0200
TZNAME:CEST
DTSTART:20210328T010000
END:DAYLIGHT
BEGIN:STANDARD
TZOFFSETFROM:+0200
TZOFFSETTO:+0100
TZNAME:CET
DTSTART:20211031T010000
END:STANDARD
END:VTIMEZONE
BEGIN:VEVENT
DTSTART;TZID=Europe/Paris:20210627T160000
DTEND;TZID=Europe/Paris:20210627T160000
DTSTAMP:20260426T054435
CREATED:20210621T185619Z
LAST-MODIFIED:20210621T185819Z
UID:19627-1624809600-1624809600@theatrearlequin.morsang.net
SUMMARY:Week-end en ascenseur (Made in Coeur d'Essonne)
DESCRIPTION:Festival de pratiques amateur – Made in Coeur d’Essonne\nDimanche 27 juin à 16h \nAssociation Saltimbanques 2000 \nWeek-end en ascenseur \nde Jean-Christophe Barc \nmise en scène Monica Facoltoso \nAvec : Karine Leroux\, Eric Nayac\, Sophie Nayac\, Christian Raimond \nQuatre personnes bloquées en début de week-end dans un ascenseur… une panne et bien d’autres surprises : départ d’un drame angoissant ? Non… Ensemble\, chacun avec sa personnalité\, va transformer un huis-clos en délire absolu. \n 
URL:https://theatrearlequin.morsang.net/event/week-end-en-ascenseur-made-in-coeur-dessonne/
ATTACH;FMTTYPE=image/jpeg:https://theatrearlequin.morsang.net/wp-content/uploads/2021/06/201768355_1963926880421277_8544509807868575485_n.jpg
END:VEVENT
END:VCALENDAR