BEGIN:VCALENDAR
VERSION:2.0
PRODID:-//Théâtre de l’Arlequin - ECPv5.6.0//NONSGML v1.0//EN
CALSCALE:GREGORIAN
METHOD:PUBLISH
X-WR-CALNAME:Théâtre de l’Arlequin
X-ORIGINAL-URL:https://theatrearlequin.morsang.net
X-WR-CALDESC:évènements pour Théâtre de l’Arlequin
BEGIN:VTIMEZONE
TZID:Europe/Paris
BEGIN:DAYLIGHT
TZOFFSETFROM:+0100
TZOFFSETTO:+0200
TZNAME:CEST
DTSTART:20220327T010000
END:DAYLIGHT
BEGIN:STANDARD
TZOFFSETFROM:+0200
TZOFFSETTO:+0100
TZNAME:CET
DTSTART:20221030T010000
END:STANDARD
END:VTIMEZONE
BEGIN:VEVENT
DTSTART;TZID=Europe/Paris:20220602T200000
DTEND;TZID=Europe/Paris:20220602T200000
DTSTAMP:20260423T231344
CREATED:20220518T151401Z
LAST-MODIFIED:20220518T151401Z
UID:21261-1654200000-1654200000@theatrearlequin.morsang.net
SUMMARY:WILLIAM S. (théâtre)
DESCRIPTION:Jeudi 2 juin à 20h \nAssociation Saltimbanques 2000 \n  WILLIAM S.\nWilliam S. ? William Sheller\, William Saurin ?\nNon\, William Shakespeare\, le seul\, le grand\, l’unique… Une comédie historique sur sa vie\, son œuvre\, ses tragédies. Avec la présence sur scène de Roméo\, Juliette\, Othello\, Macbeth\, Hamlet mais aussi de Richard III\, de la Reine Elisabeth et peut-être même de Ribéry ! \nMise en scène : Guy Deffontis \nAvec : Armel Pastol\, Haydée Leonetti\, Corinne Dumas\, Eric Nayac\, Camille Vroman\, Mireille Pellicer\, Guy Deffontis\n \nTout public \n  \nDans le cadre des rencontres Made in Coeur d’Essonne\nCe festival dédié aux aux groupes et compagnies amateur qui depuis longtemps nous font l’amitié de s’associer\, au fil des saisons\, à la vie du théâtre de l’Arlequin\n\nDes compagnies de toute l’agglomération du Cœur d’Essonne. Du théâtre\, de la musique. De la passion et de l’audace.\nMade in Coeur d’Essonne vous présente 15 spectacles en 4 semaines.\nAu théâtre de l’Arlequin\, 35 rue Jean Raynal\, 91390 Morsang sur Orge\nRéservation 01.69.25.49.15 ou sur le site https://theatrearlequin.morsang.net\nEt toujours les tarifs habituels de 2€\, 5€\, 10€ au choix\, 1€ enfants de moins de 12 ans\, mais cette fois\, la recette va intégralement à la compagnie qui joue. \nTOUT LE PROGRAMME DU FESTIVAL SOUS CE LIEN
URL:https://theatrearlequin.morsang.net/event/william-s-theatre/
CATEGORIES:Juin - Août,Made in Cœur d’Essonne,pratiques amateurs,Théâtre
ATTACH;FMTTYPE=image/jpeg:https://theatrearlequin.morsang.net/wp-content/uploads/2022/05/3630519lpw-3630579-article-shakespeare-jpg_3501923_1250x625.jpg
END:VEVENT
END:VCALENDAR