BEGIN:VCALENDAR
VERSION:2.0
PRODID:-//Théâtre de l’Arlequin - ECPv5.6.0//NONSGML v1.0//EN
CALSCALE:GREGORIAN
METHOD:PUBLISH
X-WR-CALNAME:Théâtre de l’Arlequin
X-ORIGINAL-URL:https://theatrearlequin.morsang.net
X-WR-CALDESC:évènements pour Théâtre de l’Arlequin
BEGIN:VTIMEZONE
TZID:Europe/Paris
BEGIN:DAYLIGHT
TZOFFSETFROM:+0100
TZOFFSETTO:+0200
TZNAME:CEST
DTSTART:20260329T010000
END:DAYLIGHT
BEGIN:STANDARD
TZOFFSETFROM:+0200
TZOFFSETTO:+0100
TZNAME:CET
DTSTART:20261025T010000
END:STANDARD
END:VTIMEZONE
BEGIN:VEVENT
DTSTART;TZID=Europe/Paris:20260428T203000
DTEND;TZID=Europe/Paris:20260428T203000
DTSTAMP:20260421T104559
CREATED:20260130T084543Z
LAST-MODIFIED:20260130T084639Z
UID:29922-1777408200-1777408200@theatrearlequin.morsang.net
SUMMARY:AU PLUS PRÈS DE CES VOIX (théâtre)
DESCRIPTION:Mardi 28 avril à 20h30\nAu plus près de ces voix\nde Chahla Chafiq \nThéâtre tout public à partir de 13 ans – Durée : 1h – Tarif spécial SORTIE DE RÉSIDENCE : entrée libre – Compagnie du PasSage – Mise en scène : Gilles David\, Sociétaire de la Comédie-Française – Avec : Salmi Elahi et Jean-Paul Sermadiras \nUn professeur d’histoire qui vit seul depuis le décès de sa femme mène une vie calme en évitant de se mêler à la vie politique tourmentée de l’Iran. N’ayant pas participé à la révolution de 1979 qui a renversé le Chah\, il persiste à rester en marge des protestations contre le nouveau régime. Connaissant les aléas de l’histoire contemporaine de son pays\, il est persuadé de bien mesurer la mainmise des mollahs sur le peuple et de savoir de quelles cruautés ils sont capables\, surtout quand il s’agit d’écraser la liberté des femmes. \nEt voilà que le soulèvement du peuple contre le pouvoir\, au cri de « Femme\, Vie\, liberté »\, le projette dans le désarroi de doutes profonds. La révolte des femmes qui sortent en nombre dans les rues\, sans voile\, défiant avec courage l’ordre dominant l’interroge sur sa passivité.\nSaisi d’un grand malaise\, le professeur se lance dans une relecture de l’histoire à travers la figure de la poétesse rebelle\, Tahereh – Qorratol Ein\, la première femme à avoir osé retirer son voile devant une assemblée pour s’adresser à un public essentiellement masculin. Ce sera pour lui l’occasion de revoir\, sous une autre lumière\, sa propre relation avec sa femme et de s’interroger sur ses peurs. \n  \nCe projet est soutenu par la ville de Saint-Cloud\, la ville de Pleubian et l’Alliance Française de Pondichéry \nLe spectacle est une coproduction avec la compagnie les Chercheurs de Lumière \n 
URL:https://theatrearlequin.morsang.net/event/au-pus-pres-de-ces-voix-theatre/
CATEGORIES:janvier – mai,Théâtre
ATTACH;FMTTYPE=image/png:https://theatrearlequin.morsang.net/wp-content/uploads/2026/01/AU-plus-près-Sami-voile.png
END:VEVENT
END:VCALENDAR