BEGIN:VCALENDAR
VERSION:2.0
PRODID:-//Théâtre de l’Arlequin - ECPv5.6.0//NONSGML v1.0//EN
CALSCALE:GREGORIAN
METHOD:PUBLISH
X-WR-CALNAME:Théâtre de l’Arlequin
X-ORIGINAL-URL:https://theatrearlequin.morsang.net
X-WR-CALDESC:évènements pour Théâtre de l’Arlequin
BEGIN:VTIMEZONE
TZID:Europe/Paris
BEGIN:DAYLIGHT
TZOFFSETFROM:+0100
TZOFFSETTO:+0200
TZNAME:CEST
DTSTART:20240331T010000
END:DAYLIGHT
BEGIN:STANDARD
TZOFFSETFROM:+0200
TZOFFSETTO:+0100
TZNAME:CET
DTSTART:20241027T010000
END:STANDARD
END:VTIMEZONE
BEGIN:VEVENT
DTSTART;TZID=Europe/Paris:20240526T080000
DTEND;TZID=Europe/Paris:20240616T170000
DTSTAMP:20260423T193449
CREATED:20240511T053958Z
LAST-MODIFIED:20240511T053958Z
UID:26197-1716710400-1718557200@theatrearlequin.morsang.net
SUMMARY:FESTIVAL MADE IN COEUR D'ESSONNE
DESCRIPTION:Comme chaque année\, l’Arlequin ferme sa saison en ouvrant ses portes aux compagnies et associations de l’agglomération du Coeur d’Essonne et des communes environnantes qui pratiquent le spectacle amateur.\nEn tout 13 spectacles dont voici les dates :\n  \ndimanche 26 mai à 16h – Spectacle d’ouverture \nLE CERCLE DE CRAIE CAUCASIEN\, de Bertold Brecht\nPrésentation du travail de l’année des élèves du Conservatoire de musique et de théâtre. Atelier théâtre enfants et adolescents dirigé par Florent Lumbroso. \n  \njeudi 30 mai à 20h – L’Epi d’Orge  \nLE PORTEUR D’HISTOIRE\, d’Alexis Michalik\nPar une nuit pluvieuse\, au fin fond des Ardennes\, Martin Martin doit enterrer son père. Il est alors loin d’imaginer que la découverte d’un carnet manuscrit va l’entraîner dans une quête à travers l’Histoire et les continents. \n  \nvendredi 31 mai à 20h – Théâtre de Sarah de Savigny sur Orge \nLES ASSERVIES\, de Sue Glover\nLes «asservies» étaient les ouvrières agricoles des grandes fermes en Ecosse à la fin du XIX° siècle. Chaque année au premier lundi de février\, elles étaient louées par les valets de ferme pour une saison. \n  \nsamedi 1er juin à 20h – Atelier Les gaufres » de Viry Chatillon \nDIABLOGONS\, d’après « Les diablogues » de Roland Dubillard\nAvec cet univers de conversations absurdes\, Roland Dubillard a reçu\, pour « les diablogues »\, le Molière de l’auteur francophone vivant en 2008. \n  \ndimanche 2 juin à 16h – Les Dodus dindons \nAttention\, exceptionnellement il s’agit d’une répétition générale. Entrée libre. \nFALLAIT PAS LE DIRE ! de Salomé Lelouch\nFallait pas le dire ! Aujourd’hui la parole se libère\, tout est sujet à discussion : climat\, sexualité\, familles recomposées\, rôle de la femme\, pédophilie\, #MeToo\, GPA\, VIH\, IVG\, écolos\, bobos et même la trottinette électrique ! Mais peut-on donner son avis sur tout ? \n  \njeudi 6 juin à 20h – Compagnie Nautilus \nTRÈS SAINT PÈRE de Jean-Paul Alègre\nA la croisée des chemins entre la satire et le thriller politique la nouvelle comédie de  J.P.Alègre emporte le spectateur dans les coulisses d’un Vatican contemporain. \n  \nsamedi 8 juin à 20h – Atelier Guy – Saltimbanques 2000 \nLE ROI NU d’Evguéni Schwartz\nImaginez : Un royaume fort\, fort lointain. Un garçon porcher voulant se marier avec une princesse supportrice de l’OM. Un chaudron qui chante. Un poète qui clame. Un roi complètement nu ? \n  \ndimanche 9 juin à 16h – Compagnie La Porte Entr’ouverte \nET NOS LARMES\, DERAISONNABLES de Axel Vinot Préfontaine\nCette création interroge notre rapport à la culpabilité individuelle et collective. Elle nous pose cette question simple : sommes-nous tous responsables lorsque la société déraille ? La pièce donne à entendre le témoignage d’une femme puis d’un homme\, sans jamais savoir si des liens entre eux existent. \n  \nlundi 10 juin à 20h – Compagnie Les Trois Clous \nD’UNE PANDORE L’AUTRE\nComment un étonnant voyage en mythologie fait comprendre les dérèglements de la planète Terre. Le spectacle\, poétique\, à la fois tragique et drôle\, tisse les textes du poète Ovide et des textes contemporains. Il interroge notre époque. \n  \nmercredi 12 juin à 20h – Compagnie Sur un fil \nLE BAL DE BARBE-BLEUE\nAujourd’hui\, c’est l’anniversaire de mariage de Barbe-Bleue et de Judith. Un an de vie commune\, un an d’amour absolu que Barbe-Bleue souhaite honorer en donnant un bal qui réunira tous les gens des environs. \n  \njeudi 13 juin à 20h – Compagnie Les Planches bavardes \nHISTOIRES D’ÂMES de Lilian Lloyd\nUne kyrielle de personnages se succèdent sur scène. Ils vivent tour à tour des rencontres ou des déceptions ; notre condition d’être humain. Avec énergie et humour\, s’offrent à nous des textes sur le thème de l’amour\, l’abandon\, la solitude\, la mort\, le bonheur. \n  \nsamedi 15 juin à 18h – Association Lulla Musique \nLULLA MUSIQUE\nPrésentation du travail de la saison 2023-2024 par les chanteurs solistes des ateliers de technique vocale ainsi que par la chorale Echo Pop. \n  \ndimanche 16 juin à 16h – Saltimbanques 2000\, atelier Monica  \nLES PAS PERDUS de Denise Bonal\nCette pièce de théâtre originale et intimiste se passe dans une gare : le hall de gare\, un espace qui fourmille en destins de diversités multiples qui s’entrecroisent\, se rencontrent\, se dénouent ou se brisent. \n  \n  \n  \n  \n 
URL:https://theatrearlequin.morsang.net/event/festival-made-in-coeur-dessonne/
CATEGORIES:janvier – mai,Juin - Août,Made in Cœur d’Essonne,pratiques amateurs
ATTACH;FMTTYPE=image/jpeg:https://theatrearlequin.morsang.net/wp-content/uploads/2024/05/1FB8CEE9-824A-4DAF-B54D-99D2B071851B_1_201_a-scaled.jpeg
END:VEVENT
BEGIN:VEVENT
DTSTART;TZID=Europe/Paris:20240526T170000
DTEND;TZID=Europe/Paris:20240526T170000
DTSTAMP:20260423T193449
CREATED:20240511T054934Z
LAST-MODIFIED:20240511T094906Z
UID:26211-1716742800-1716742800@theatrearlequin.morsang.net
SUMMARY:LE CERCLE DE CRAIE CAUCASIEN
DESCRIPTION:dimanche 26 mai à 17h \nSpectacle d’ouverture / FESTIVAL MADE IN COEUR D’ESSONNE \nLE CERCLE DE CRAIE CAUCASIEN\, de Bertolt Brecht\nPrésentation du travail de l’année des élèves du Conservatoire de musique et de théâtre. Atelier théâtre enfants et adolescents dirigé par Florent Lumbroso.\nDans une ville de l’ancien Caucase\, le gouverneur est renversé et pendu. Sa femme s’enfuit en laissant son enfant\, le petit Michel. Groucha\, une fille de cuisine\, ira\, pour le sauver des mains des hommes d’armes acharnés à le retrouver\, jusqu’à épouser un paysan prétendument mourant. La guerre finie\, provisoirement\, le fiancé de Groucha\, le soldat Simon\, la retrouve avec cet enfant\, se méprend\, et la quitte. La femme du gouverneur revient elle aussi et réclame Michel. Pendant la guerre\, le grand-duc a trouvé refuge … La suite est entre les mains du vagabond Azdak qui a été nommé\, à la faveur de la pagaïe générale\, juge du district. Ses jugements n’ont jamais été que paradoxaux : ne prenait-il pas aux riches pour donner aux pauvres ? C’est lui qui prononcera la sentence aux termes de laquelle l’une des deux femmes\, Groucha ou la femme du gouverneur\, gardera le petit Michel. \nUn des principaux chefs d’oeuvre du grand dramaturge allemand
URL:https://theatrearlequin.morsang.net/event/le-cercle-de-craie-caucasien/
CATEGORIES:janvier – mai,Juin - Août
ATTACH;FMTTYPE=image/png:https://theatrearlequin.morsang.net/wp-content/uploads/2024/05/05-26-visuel-Brecht.png
END:VEVENT
END:VCALENDAR