BEGIN:VCALENDAR
VERSION:2.0
PRODID:-//Théâtre de l’Arlequin - ECPv5.6.0//NONSGML v1.0//EN
CALSCALE:GREGORIAN
METHOD:PUBLISH
X-WR-CALNAME:Théâtre de l’Arlequin
X-ORIGINAL-URL:https://theatrearlequin.morsang.net
X-WR-CALDESC:évènements pour Théâtre de l’Arlequin
BEGIN:VTIMEZONE
TZID:Europe/Paris
BEGIN:DAYLIGHT
TZOFFSETFROM:+0100
TZOFFSETTO:+0200
TZNAME:CEST
DTSTART:20250330T010000
END:DAYLIGHT
BEGIN:STANDARD
TZOFFSETFROM:+0200
TZOFFSETTO:+0100
TZNAME:CET
DTSTART:20251026T010000
END:STANDARD
END:VTIMEZONE
BEGIN:VEVENT
DTSTART;TZID=Europe/Paris:20250202T170000
DTEND;TZID=Europe/Paris:20250202T170000
DTSTAMP:20260424T013420
CREATED:20241211T143004Z
LAST-MODIFIED:20250127T145100Z
UID:28832-1738515600-1738515600@theatrearlequin.morsang.net
SUMMARY:YING ❤️ YOMBÉ (théâtre)
DESCRIPTION:dimanche 2 février à 17h\nLe mois de BaroDa\nYING ❤️ YOMBÉ – Durée 1h – Théâtre et vidéo tout public\n de Jean-Louis Sagot-Duvauroux – Mise en scène : Jean-Paul Sermadiras\, assistante Salmi Elahi – Avec : Sandrine Vicente\, Modibo Konaté et Anatole Gibault – Vidéos d’Aboubacar Samaké\, Aboubacar Coulibaly et Alexandre Bonche – Régisseur : Anatole Gibault \n  \nLe voyage France-Mali dans le navire de l’amour\nHistoire vraie. Ils se rencontrent à Lyon dans les années 1970. Yombé\, Malien\, est ouvrier émigré dans l’automobile. Ying\, Française de père chinois vit dans sa famille. Yombé est expulsé pour activités syndicales. Sans aucune connaissance du terrain\, elle décide de partir à sa rencontre. 50 ans plus tard\, ils sont parents et grands-parents et vivent toujours ensemble. \n\n\n\nYombé (Richard)\nLes parents de Yombé sont originaires de la colonie de Haute-Volta\, actuel Burkina Faso. Au temps colonial\, ils sont déportés au Soudan français\, l’actuel Mali\, pour mettre en valeur la zone irriguée de « l’Office du Niger ». Yombé est plus connu sous le nom de Richard\, qu’il obtient par le choix de se faire baptiser dans la religion chrétienne. Alors que le Mali vient tout juste d’accéder à l’Indépendance\, il part en « formation » en France\, puis entre dans le monde du travail comme mécanicien dans l’automobile\, à Lyon. La vie en fera une personnalité reconnue du Mali indépendant. \nYing\nLe père de Ying est Chinois. Sa mère est française. Sa famille vit à Lyon. Toute jeune\, Ying y rencontre Yombé. De cette rencontre nait un amour réciproque\, mais Yombé est expulsé vers le Soudan français\, devenu Mali\, pour cause d’activisme politique et syndical. Ying décide de partir\, à l’aveugle\, pour tenter de le retrouver. Elle n’a pas de nouvelles\, ne sait pas où il habite\, n’a jamais vu l’Afrique\, mais l’énergie de l’amour lui donne la force de quitter son pays de naissance\, un peu au hasard\, à la recherche des indices qui lui permettront d’avancer vers son but\, son rêve. \n  \nLE DÉPARTEMENT DE L’ESSONNE S’EST RETIRÉ DE L’EMFEST (Essonne-Mali Festiva)\, MAIS BARODA A TENU À MAINTENIR SA BELLE LANCÉE\, avec une tournée de YING ❤️ YOMBÉ dans le département\n  \nSamedi 1er février 2025 à 16h : Salle François des Garêts à Marolles-en-Hurepoix\nDimanche 2 février à 17h et mardi 4 février 2025 à 14h30 (scolaire) : Théâtre de l’Arlequin\, Morsang-sur-Orge.\nJeudi 6 février 2025 à 14h20 (scolaire) et 20h30 : Centre Culturel Marcel Pagnol à Bures-sur-Yvette\nSamedi 8 février 2025 à 20h30 : Salle Auguste Delaporte à Cerny.\n\n  \n 
URL:https://theatrearlequin.morsang.net/event/ying-%e2%9d%a4%ef%b8%8f-yombe-theatre/
CATEGORIES:janvier – mai,Le mois de BaroDa,Théâtre
ATTACH;FMTTYPE=image/jpeg:https://theatrearlequin.morsang.net/wp-content/uploads/2024/12/D6431E8D-8B66-492E-B8E0-26D438F64DA6_1_105_c.jpeg
END:VEVENT
END:VCALENDAR