BEGIN:VCALENDAR
VERSION:2.0
PRODID:-//Théâtre de l’Arlequin - ECPv5.6.0//NONSGML v1.0//EN
CALSCALE:GREGORIAN
METHOD:PUBLISH
X-WR-CALNAME:Théâtre de l’Arlequin
X-ORIGINAL-URL:https://theatrearlequin.morsang.net
X-WR-CALDESC:évènements pour Théâtre de l’Arlequin
BEGIN:VTIMEZONE
TZID:Europe/Paris
BEGIN:DAYLIGHT
TZOFFSETFROM:+0100
TZOFFSETTO:+0200
TZNAME:CEST
DTSTART:20240331T010000
END:DAYLIGHT
BEGIN:STANDARD
TZOFFSETFROM:+0200
TZOFFSETTO:+0100
TZNAME:CET
DTSTART:20241027T010000
END:STANDARD
END:VTIMEZONE
BEGIN:VEVENT
DTSTART;TZID=Europe/Paris:20241012T203000
DTEND;TZID=Europe/Paris:20241012T220000
DTSTAMP:20260423T193622
CREATED:20240905T101009Z
LAST-MODIFIED:20241012T062510Z
UID:27730-1728765000-1728770400@theatrearlequin.morsang.net
SUMMARY:ANTIGONE (théâtre)
DESCRIPTION:samedi 12 octobre à 20h30 \nANTIGONE\nD’après Sophocle \nThéâtre tout public à partir de 12 ans\ndurée 1h15\nCompagnie Le Vélo Volé – Mise en scène et lumières : François Ha Van\nAvec : Romain Arnaud-Kneisky\, Yann Guchereau\, Hoël Le Corre\, Laurent Suire\, Morgane Touzalin en alternance avec Emma Bousquet\nScénographie Elie Barthès – Création musicale et interprétation live : Pierre Bienaimé \nLe Vélo Volé explore la figure mythique de l’opposition\, pour proposer une Antigone aussi vibrante que la guitare électrique qui l’accompagne.\nThèbes.\nCombat entre deux frères : double fratricide.\nPour Créon et sa loi\, l’un mérite les honneurs\, l’autre la poussière.\nNon négociable.\nDésobéir\, c’est s’exposer à la mort.\nPour Antigone\, ses deux frères ont droit aux hommages funéraires.\nNon négociable.\nQuitte à mettre sa vie en jeu.\nQui emportera la balance ? Peut-on aimer jusqu‘à en mourir ?\nCe mythe millénaire résonne encore aujourd’hui : les voix se radicalisent\, la violence affleure. Pour donner toute sa puissance à l’œuvre de Sophocle\, Le Vélo Volé convoque les notes électriques d’une guitare et les corps fougueux des comédiens\, dans une mise en scène sensible\, intense et éminemment moderne. \n  \nSoutiens : Ville de Boulogne-Billancourt\, Théâtre Arlequin de Morsang-sur-Orge\, Ville de Lésigny\, La Scala Provence \n  \n  \n 
URL:https://theatrearlequin.morsang.net/event/antigone-theatre/
CATEGORIES:Musique,septembre – décembre,Théâtre
ATTACH;FMTTYPE=image/jpeg:https://theatrearlequin.morsang.net/wp-content/uploads/2023/12/B61D6483-E687-4096-828D-6FC2ED8097BC_4_5005_c.jpeg
END:VEVENT
END:VCALENDAR