BEGIN:VCALENDAR
VERSION:2.0
PRODID:-//Théâtre de l’Arlequin - ECPv5.6.0//NONSGML v1.0//EN
CALSCALE:GREGORIAN
METHOD:PUBLISH
X-WR-CALNAME:Théâtre de l’Arlequin
X-ORIGINAL-URL:https://theatrearlequin.morsang.net
X-WR-CALDESC:évènements pour Théâtre de l’Arlequin
BEGIN:VTIMEZONE
TZID:Europe/Paris
BEGIN:DAYLIGHT
TZOFFSETFROM:+0100
TZOFFSETTO:+0200
TZNAME:CEST
DTSTART:20240331T010000
END:DAYLIGHT
BEGIN:STANDARD
TZOFFSETFROM:+0200
TZOFFSETTO:+0100
TZNAME:CET
DTSTART:20241027T010000
END:STANDARD
END:VTIMEZONE
BEGIN:VEVENT
DTSTART;TZID=Europe/Paris:20240406T203000
DTEND;TZID=Europe/Paris:20240406T203000
DTSTAMP:20260423T040806
CREATED:20231206T111029Z
LAST-MODIFIED:20240403T093711Z
UID:24539-1712435400-1712435400@theatrearlequin.morsang.net
SUMMARY:#VNR (théâtre musical)
DESCRIPTION:samedi 6 avril à 20h30 (COMPLET – RÉSERVATIONS CLOSES) \n#VNR\ncompagnie Quartet Buccal\nChant\, écriture : Corinne Guimbaud\, Claire Chiabaï\, Véronique Ravier\, Marisa Simon \nMise en scène\, écriture : Cécile Martin \nPour cette nouvelle création\, les quatre chanteuses du Quartet Buccal se retrouvent\, après que leurs chemins artistiques aient bifurqué pendant une dizaine d’années. \nElles écrivent une chronique échevelée des années (20)20\, une revue féministe et excentrique sur l’art d’être qui l’on souhaite : sorcière ou fée\, cheffe de gang ou cheffe de famille\, et tout à la fois si l’on préfère. \nS’appuyant sur une nouvelle lecture des chansons de leur répertoire\, ce spectacle raconte le parcours de quatre femmes à l’approche de la soixantaine\, qui cherchent leur place dans cette nouvelle étape du féminismemenée par leurs filles. Dialogue entre générations\, histoire des luttes et refus de faire rimer vieillesse avec sagesse\, ce nouvel opus du Quartet Buccal est une ode aux révolutions. \nThéâtre musical tout public \nDurée 1h20 \nSOUTIENS – COPRODUCTIONS\nCo-production : La Lisière (91) . Animakt (91) . Association la Transverse (58) Partenaires : . La Piscine d’en face (91) . Le SILO (91) . MJC Ancely (31) . Théâtre du Pont Neuf (31) Partenaires Institutionnels : Conseil Départemental de l’Essonne. Spedidam Soutiens (demandes en cours) : DRAC Rue\, Region Ile de France\, CNM
URL:https://theatrearlequin.morsang.net/event/ras-lbol-theatre-musical/
CATEGORIES:janvier – mai,Musique,Performance,septembre – décembre
ATTACH;FMTTYPE=image/jpeg:https://theatrearlequin.morsang.net/wp-content/uploads/2023/12/B61D6483-E687-4096-828D-6FC2ED8097BC_4_5005_c.jpeg
END:VEVENT
END:VCALENDAR