BEGIN:VCALENDAR
VERSION:2.0
PRODID:-//Théâtre de l’Arlequin - ECPv5.6.0//NONSGML v1.0//EN
CALSCALE:GREGORIAN
METHOD:PUBLISH
X-WR-CALNAME:Théâtre de l’Arlequin
X-ORIGINAL-URL:https://theatrearlequin.morsang.net
X-WR-CALDESC:évènements pour Théâtre de l’Arlequin
BEGIN:VTIMEZONE
TZID:Europe/Paris
BEGIN:DAYLIGHT
TZOFFSETFROM:+0100
TZOFFSETTO:+0200
TZNAME:CEST
DTSTART:20240331T010000
END:DAYLIGHT
BEGIN:STANDARD
TZOFFSETFROM:+0200
TZOFFSETTO:+0100
TZNAME:CET
DTSTART:20241027T010000
END:STANDARD
END:VTIMEZONE
BEGIN:VEVENT
DTSTART;TZID=Europe/Paris:20240512T170000
DTEND;TZID=Europe/Paris:20240512T170000
DTSTAMP:20260423T022734
CREATED:20240131T150928Z
LAST-MODIFIED:20240202T112936Z
UID:25443-1715533200-1715533200@theatrearlequin.morsang.net
SUMMARY:LE TIR SACRÉ (Performance théâtre et danse)
DESCRIPTION:Dimanche 12 mai à 17h \n \nLE TIR SACRE\nPerformance théâtrale et dansée sur le commentaire sportif – Petite foule Production – Dans le cadre de l’Olympiade culturelle Essonne danse\nDurée : 50 mn\nCONCEPTION ET CHOREGRAPHIE Marine Colard – INTERPRÉTATION Marine Colard & Esse Vanderbruggen – CRÉATION SONORE Aria Delacelle & Sylvain Ollivier – CRÉATION LUMIÈRE Lucien Valle – SCÉNOGRAPHIE Alix Boillot – COSTUMES Aude Désigaux – JOURNALISTES COMPLICES Fanny Lechevestrier Bruno Salomon – REGARDS Michel Cerda\, Adeline Fontaine\, Nina Vallon & Jérôme Andrieu – PRODUCTION ET DIFFUSION Guillaume Fernel \nL’équipe des féminines de l’AJ Auxerre a participé à la création de la scénographie du spectacle avec des rencontres entre le club de foot et la compagnie\, des échanges et une séance photo pour qu’elles deviennent silhouettes en 2D \nMarine Colard vous présente son spectacle\n« Dans Le Tir Sacré\, je cherche à mettre en relation d’une part\, la posture d’excellence et de  performance du sportif\, ses victoires et ses défaites\, et d’autre part\, le commentaire sportif et le côté pathétique de son exubérance. Aborder le thème du sport pour faire vivre le corps et ses mouvements\, à travers la gestuelle des sportifs\, l’immobilité et la tension dans le dessin de leurs postures. « Plus vite\, plus haut\, plus fort »\, en latin: Citius\, altius\, fortius\, est la devise olympique\, elle symbolise l’excellence. Donner le meilleur de soi\, au stade comme à la ville\, est un idéal que chacun.e peut faire sien.ne. Nous courrons tou.te.s\, toujours un peu plus vite\, mais nous oublions souvent pourquoi. \n« Jean-Luc Godard disait « le cinéma ment\, pas le sport ! » A ce même sujet\, il parlait aussi de filmer « l’homme et sa misère »\, de cadrer l’effort. C’est de cet effort et de sa philosophie auxquels nous allons nous attacher ici\, en nous inspirant des postures\, mais aussi des longs moments de préparation\, du doute\, de la peur parfois; des corps en tension comme des corps relâchés. Les sportif.ve.s doivent tenir un entraînement très rigoureux. Tels les danseur.se.s\, ils.elles répètent les mêmes gestes\, les améliorent chaque jour : la manière et le rythme de mettre un bras devant l’autre dans l’eau\, la courbe du bras pour nager le crawl\, l’axe de la main pour pousser dans l’eau et gagner de la vitesse ou encore la manière de tenir une raquette de tennis\, ou celle de plier les genoux dans le ski alpin. Tout est très précis\, au millimètre près. \n« À l’aide d’une bibliothèque de postures physiques issues de différents sports olympiques (natation\, escrime\, athlétisme\, relais\, tir à l’arc\, équitation\, haltérophilie\, tennis\, ski alpin\, patinage artistique…) et de commentaires célébrant le sport pour son endurance et sa performance\, nous questionnerons les aspects performatifs et spectaculaires de la pratique sportive de haut niveau. Source d’inspiration pour mieux les déconstruire. Les travaux d’Étienne Jules Marey et Georges Demenÿ  chronophotographie\, bullet time et phonoscope) m’accompagnent tout au long du processus de création. J’aimerais jouer avec la décomposition chronologique des phases d’un mouvement. La scénographie viendra elle aussi appuyer cette géométrisation de l’espace des lieux de sport qui ne laissent aucune place à la liberté des corps. » \n \nDANS LA PRESSE\n« …ces commentaires\, modulés de l’angoisse à l’hystérie\, agissent comme une formidable partition. Sacré spectacle que ce « Tir sacré » !  LE CANARD ENCHAINE \n  \n« … Le sujet est parfaitement traité. Les deux danseuses (…) sont d’une justesse absolue. » LE BRUIT DU OFF
URL:https://theatrearlequin.morsang.net/event/le-tir-sacre-performance-theatre-et-danse/
CATEGORIES:Danse,janvier – mai,Juin - Août,Performance,Théâtre
ATTACH;FMTTYPE=image/png:https://theatrearlequin.morsang.net/wp-content/uploads/2024/01/7A87D84F-0DF8-4AD4-BE1F-A2374CBECCE1.png
END:VEVENT
END:VCALENDAR