BEGIN:VCALENDAR
VERSION:2.0
PRODID:-//Théâtre de l’Arlequin - ECPv5.6.0//NONSGML v1.0//EN
CALSCALE:GREGORIAN
METHOD:PUBLISH
X-WR-CALNAME:Théâtre de l’Arlequin
X-ORIGINAL-URL:https://theatrearlequin.morsang.net
X-WR-CALDESC:évènements pour Théâtre de l’Arlequin
BEGIN:VTIMEZONE
TZID:Europe/Paris
BEGIN:DAYLIGHT
TZOFFSETFROM:+0100
TZOFFSETTO:+0200
TZNAME:CEST
DTSTART:20250330T010000
END:DAYLIGHT
BEGIN:STANDARD
TZOFFSETFROM:+0200
TZOFFSETTO:+0100
TZNAME:CET
DTSTART:20251026T010000
END:STANDARD
END:VTIMEZONE
BEGIN:VEVENT
DTSTART;TZID=Europe/Paris:20251123T170000
DTEND;TZID=Europe/Paris:20251123T170000
DTSTAMP:20260419T230306
CREATED:20250811T135107Z
LAST-MODIFIED:20250811T135609Z
UID:29644-1763917200-1763917200@theatrearlequin.morsang.net
SUMMARY:LA SCIENCE DE L'ART (performances)
DESCRIPTION:dimanche 23 novembre à 17h\n La Science de l’Art\, festival des performances (Collectif Culture Essonne CC91)\nDeux spectacles danse et robots\, tout public à partir de 10 ans \nCompagnie Bok o Bok – Conception\, chorégraphie\, interprétation : Veronika Akopova – Programmation robots : Florian Goralsky – Création musicale : Andrei Karasev – Création costume : Clara Daguin – Création lumière : Mathieu Cabanes \nSon of Ad@m \nDuo hypnotique entre une danseuse et un robot humanoïde\, une projection du fantasme créationnel de l’humain. \nLes robots humanoïdes représentent l’apogée de cette quête du biomimétisme\, menée par les humains depuis l’Antiquité. Le projet Son of Ad@m propose une réflexion sur ce qu’il peut y avoir d’organique dans une machine et répondre à cette question cruciale : la sensibilité\, au sens large du terme\, qui renvoie à la capacité d’adaptation qui régit le monde de la nature\, est-elle réservée aux êtres vivants ? Pouvons-nous percevoir l’intelligence artificielle comme une tentative de sensibilité ? \n L’Oiseleuse \nMurmurations est un voyage dans la beauté du mouvement\, qui brouille les frontières entre le naturel et l’artificiel et explore de nouvelles formes de réincarnation 2.0 des espèces. Spectacle de danse avec une nuée d’oiseaux robotiques\, qui s’intéresse à l’usage de la technologie pour pallier le déclin des oiseaux. \n© Bok o Bok Veronika Akopova \nProduction : bok o bok \nCoproduction : Centre des Arts d’Enghien-les-Bains\nSoutiens : DRAC Auvergne-Rhône-Alpes et Région Auvergne-Rhône-Alpes (Fonds d’aide à la création en environnement numérique\, interactive et immersive)\, Centre National de la Danse de Lyon
URL:https://theatrearlequin.morsang.net/event/la-science-de-lart-performances/
CATEGORIES:Performance,septembre – décembre
ATTACH;FMTTYPE=image/jpeg:https://theatrearlequin.morsang.net/wp-content/uploads/2025/08/5DD45DAE-8F6D-44D4-9FA3-486AB64478C7.jpeg
END:VEVENT
END:VCALENDAR