BEGIN:VCALENDAR
VERSION:2.0
PRODID:-//Théâtre de l’Arlequin - ECPv5.6.0//NONSGML v1.0//EN
CALSCALE:GREGORIAN
METHOD:PUBLISH
X-WR-CALNAME:Théâtre de l’Arlequin
X-ORIGINAL-URL:https://theatrearlequin.morsang.net
X-WR-CALDESC:évènements pour Théâtre de l’Arlequin
BEGIN:VTIMEZONE
TZID:Europe/Paris
BEGIN:DAYLIGHT
TZOFFSETFROM:+0100
TZOFFSETTO:+0200
TZNAME:CEST
DTSTART:20230326T010000
END:DAYLIGHT
BEGIN:STANDARD
TZOFFSETFROM:+0200
TZOFFSETTO:+0100
TZNAME:CET
DTSTART:20231029T010000
END:STANDARD
END:VTIMEZONE
BEGIN:VEVENT
DTSTART;TZID=Europe/Paris:20231022T170000
DTEND;TZID=Europe/Paris:20231022T180000
DTSTAMP:20260423T135815
CREATED:20230813T161439Z
LAST-MODIFIED:20230813T161439Z
UID:23974-1697994000-1697997600@theatrearlequin.morsang.net
SUMMARY:SANS FAIRE DE BRUIT (théâtre)
DESCRIPTION:dimanche 22 octobre à 17h \nSans faire de bruit \nCie Nachepa –  Création et mise en scène Louve Reiniche-Larroche et Tal Reuveny\, création sonore Jonathan Lefevre-Reich\, scénographie Goni Shifron. \nSans faire de bruit est un seul en scène\, une enquête intime\, sur l’onde de choc d’un drame au sein d’une famille. Le spectacle s’inspire de l’histoire personnelle de Louve Reiniche-Larroche\, dont la mère est devenue sourde brutalement à l’automne 2017. \nSans faire de bruit est un portrait de famille explosif\, où chaque personnage apparaît au fil d’enregistrements\, retransmis sur scène par la comédienne via un minutieux travail de synchronisation labial. Au-delà du récit familial\, le spectacle met le son au centre de son dispositif scénique pour évoquer son absence et son essentialité. \nLa compagnie bénéficiera d’un accompagnement technique et sera en résidence de création à l’Arlequin. \nTout public à partir de 10 ans \nDurée 1h10
URL:https://theatrearlequin.morsang.net/event/sans-faire-de-bruit-theatre/
CATEGORIES:septembre – décembre,Théâtre
ATTACH;FMTTYPE=image/jpeg:https://theatrearlequin.morsang.net/wp-content/uploads/2023/08/affiche2_©Fred-Mauviel1.jpg
END:VEVENT
END:VCALENDAR