BEGIN:VCALENDAR
VERSION:2.0
PRODID:-//Théâtre de l’Arlequin - ECPv5.6.0//NONSGML v1.0//EN
CALSCALE:GREGORIAN
METHOD:PUBLISH
X-WR-CALNAME:Théâtre de l’Arlequin
X-ORIGINAL-URL:https://theatrearlequin.morsang.net
X-WR-CALDESC:évènements pour Théâtre de l’Arlequin
BEGIN:VTIMEZONE
TZID:Europe/Paris
BEGIN:DAYLIGHT
TZOFFSETFROM:+0100
TZOFFSETTO:+0200
TZNAME:CEST
DTSTART:20230326T010000
END:DAYLIGHT
BEGIN:STANDARD
TZOFFSETFROM:+0200
TZOFFSETTO:+0100
TZNAME:CET
DTSTART:20231029T010000
END:STANDARD
END:VTIMEZONE
BEGIN:VEVENT
DTSTART;TZID=Europe/Paris:20231126T170000
DTEND;TZID=Europe/Paris:20231126T170000
DTSTAMP:20260423T124906
CREATED:20230818T162246Z
LAST-MODIFIED:20230818T162246Z
UID:24000-1701018000-1701018000@theatrearlequin.morsang.net
SUMMARY:LA FERME (théâtre et conférence)
DESCRIPTION:dimanche 26 novembre à 17h  \nLa Ferme\ndans le cadre de la biennale la Science de l’Art du Collectif Culture Essonne CC91 \nCompagnie : REVUE DESSEINS – Comédiens: Cécile Duval\, Bruno Jouhet\, Brigitte Goffart\, Jean-Benoît L’Héritier\, Christine Schaller – Composition musicale: Christine Schaller\, Malone Perrotey – Création lumière : Thomas Hanff\, Bruno Jouhet – Scénographie : Jean Benoit L’héritier – Dramaturgie : Brigitte Goffart\, avec Jean Gardin (chercheur à l’Université de la Sorbonne\, d’après «la question des animaux») et Michel Meyer(«la question de la poulie débrayable de l’alternateur» – Mise en scène collective. \nLe spectacle sera suivi par une rencontre-conférence avec les chercheurs Fabienne Delfour et Jean Gardin sur l’éthologie\, la cognition animale\, le rire des animaux\, le bien-être animal\, le lien entre l’exploitation des animaux et l’exploitation des humains.\nLa Ferme est une tragicomédie contemporaine à la croisée de différents genres: cabaret\, roman noir\, documentaire\, poésie. Sous cette forme hybride\, baroque et polymorphe\, elle traite de notre rapport aux animaux et finalement à nous-même. \nTout commence par un fait divers étrang \n \ne dans une forêt normande. Sous le regard d’une buse postée en bord de route\, un homme apprend à conduire. Il s’éprend de vitesse et un accident survient au milieu d’une hêtraie. À la place du mort\, une certaine concentration d’animaux sylvestres… L’événement soulève alors subrepticement chez les habitants du village d’à côté des questionnements sur leurs rapports aux bêtes et\, de fil en aiguille\, sur leurs places dans la société. Transparaît alors la critique sous-jacente d’un enivrant système socio-économique mis en place par des êtres vivants passionnés et qui finit par se retourner joyeusement contre eux. \nTout public à partir de 10 ans \nDurée 1h plus conférence-débat
URL:https://theatrearlequin.morsang.net/event/la-ferme-theatre-et-conference/
CATEGORIES:Débat,septembre – décembre,Théâtre
ATTACH;FMTTYPE=image/jpeg:https://theatrearlequin.morsang.net/wp-content/uploads/2023/08/3La-Ferme-©Gezuh-de-Busserolles.jpg
END:VEVENT
END:VCALENDAR