BEGIN:VCALENDAR
VERSION:2.0
PRODID:-//Théâtre de l’Arlequin - ECPv5.6.0//NONSGML v1.0//EN
CALSCALE:GREGORIAN
METHOD:PUBLISH
X-WR-CALNAME:Théâtre de l’Arlequin
X-ORIGINAL-URL:https://theatrearlequin.morsang.net
X-WR-CALDESC:évènements pour Théâtre de l’Arlequin
BEGIN:VTIMEZONE
TZID:Europe/Paris
BEGIN:DAYLIGHT
TZOFFSETFROM:+0100
TZOFFSETTO:+0200
TZNAME:CEST
DTSTART:20200329T010000
END:DAYLIGHT
BEGIN:STANDARD
TZOFFSETFROM:+0200
TZOFFSETTO:+0100
TZNAME:CET
DTSTART:20201025T010000
END:STANDARD
END:VTIMEZONE
BEGIN:VEVENT
DTSTART;VALUE=DATE:20201216
DTEND;VALUE=DATE:20201229
DTSTAMP:20260426T035621
CREATED:20201211T091440Z
LAST-MODIFIED:20201229T090053Z
UID:18587-1608076800-1609199999@theatrearlequin.morsang.net
SUMMARY:DUPONTEL (humour numérique)
DESCRIPTION:Le confinement a contraint l’Arlequin à suspendre les représentations publiques. Pour novembre et décembre 2020\, l’équipe du théâtre a choisi de partager avec son public des propositions théâtrales qui n’entreraient pas dans notre petit écrin morsaintois mais que des captations vidéo en libre accès peuvent transporter sur vos écrans. Notre équipe est à l’image de sa programmation\, diverse dans ses goûts et ses passions artistiques. Chacune et chacun va vous proposer un spectacle de son choix\, argumenter ce choix\, l’offrir au partage. \n  \nPierre partage LE SALE SPECTACLE\, d’Albert Dupontel \nJe recommanderais à tous\, jusque sur mon lit de mort (c’est à crever de rire !) les « seul en scène » de l’immense Albert Dupontel joués au théâtre Tristan-Bernard et à l’Olympia et qui sont rassemblés sous le nom de Sale Spectacle 1 et 2. C’est très drôle\, très talentueux et très peu politiquement correct ! Dans une vie antérieure\, Dupontel fut élève d’Antoine Vitez – mon ex-beau-père – et j’ai eu l’occasion de le voir quand il était à l’École de Chaillot. Il s’agit donc aussi d’une toute petite note en bas d’un carnet de Famille… » \n  \nPierre Cornouaille est directeur technique et régisseur général de l’Arlequin \n  \nOn le trouve en cherchant sur Google \nhttps://www.google.com/search?q=dupontel+youtube+sale+spectacle&rlz=1C5CHFA_enFR921FR921&oq=dupontel+youtube+sale+spectacle&aqs=chrome..69i57j33i22i29i30.17935j0j4&sourceid=chrome&ie=UTF-8  \n  \n \nAlbert Dupontel : Après son baccalauréat\, Philippe Guillaume\, alias Albert Dupontel\, s’engage dans des études de médecine\, s’y ennuie\, décide de faire du théâtre. Après deux années passées à l’école de théâtre de Chaillot que dirige Antoine Vitez\, il écrit ses « sales histoires » pour Canal +\, sketches grinçants et déjanté dont le ton nouveau séduit. Son premier spectacle sur scène est Le sale spectacle (Théâtre Tristan Bernard\, L’Olympia). Il deviendra par la suite un réalisateur de cinéma plusieurs fois primé aux César pour des films qui connaissent un grand succès public (9 mois ferme\, Au revoir là-haut…). \n 
URL:https://theatrearlequin.morsang.net/event/18587/
CATEGORIES:Captation théâtrale,humour,septembre – décembre,Seul en scène
ATTACH;FMTTYPE=image/jpeg:https://theatrearlequin.morsang.net/wp-content/uploads/2020/12/albertdupontel.jpg
END:VEVENT
END:VCALENDAR